Workbook

Sheet Foglio1
B1: infoenergia pagina dedicata | C1: nome | D1: tipologia | E1: sede legale | F1: logo | G1: descrizione | H1: potenza impianti | I1: soci | J1: territorio | K1: contatti | L1: referenti | M1: n°el.prov.
A2: 1 | B2: =IF(N2<50%,"no","sì") -> sì | C2: GREENLAND | D2: cooperativa | E2: OK | F2: OK | G2: OK | H2: 93 | I2: 215 | J2: CALDONAZZO (AC221E00020) ROVERETO NORD (AC221E00014) S.COLOMBANO (AC221E00017) | K2: OK | L2: OK | M2: 003 | N2: =(9-COUNTBLANK(D2:L2))/9 -> 1
A3: 2 | B3: =IF(N3<50%,"no","sì") -> sì | C3: CER VALLE DEI LAGHI | D3: cooperativa | E3: OK | F3: OK | G3: OK | J3: MADRUZZO (AC221E00009*) | K3: OK | N3: =(9-COUNTBLANK(D3:L3))/9 -> 0.66666667
A4: 3 | B4: =IF(N4<50%,"no","sì") -> sì | C4: KONCERT | D4: cooperativa | E4: OK | F4: OK | G4: OK | H4: 1400 | I4: 340 | J4: S.MICHELE (AC221E00016) AIR ROTALIANA (AC083E00001) LAVIS (AC221E00018*) P.S.GIORGIO (AC221E00019*) TN SUD (AC221E000015*) | K4: OK | L4: OK | M4: 004 | N4: =(9-COUNTBLANK(D4:L4))/9 -> 1
A5: 4 | B5: =IF(N5<50%,"no","sì") -> sì | C5: CER.TO - CER TRENTINO ORIENTALE | D5: cooperativa | E5: OK | F5: OK | G5: OK | H5: 1500 | I5: 90 | J5: BORGO VALSUGANA (AC221E00023) GRIGNO (AC221E00027) SCURELLE (AC221E00024*) | K5: OK | L5: OK | N5: =(9-COUNTBLANK(D5:L5))/9 -> 1
A6: 5 | B6: =IF(N6<50%,"no","sì") -> no | C6: CERVALS | J6: SCURELLE (AC221E00024*) | K6: OK | N6: =(9-COUNTBLANK(D6:L6))/9 -> 0.22222222
A7: 6 | B7: =IF(N7<50%,"no","sì") -> sì | C7: ENERGIA NUOVA VALLARSA | D7: associazione | H7: 380 | I7: 120 | J7: S.COLOMBANO (AC221E00017*) | K7: OK | N7: =(9-COUNTBLANK(D7:L7))/9 -> 0.55555556
A8: 7 | B8: =IF(N8<50%,"no","sì") -> no | C8: CER TENNA | D8: associazione | J8: CALDONAZZO (AC221E00020*) | K8: OK | N8: =(9-COUNTBLANK(D8:L8))/9 -> 0.33333333
A9: 8 | B9: =IF(N9<50%,"no","sì") -> sì | C9: CER FIEMME | D9: cooperativa | E9: OK | F9: OK | G9: OK | H9: 358 | I9: 31 | J9: VARENA (AC221E00022*) | K9: OK | L9: OK | N9: =(9-COUNTBLANK(D9:L9))/9 -> 1
A10: 9 | B10: =IF(N10<50%,"no","sì") -> sì | C10: CESLA | D10: associazione | E10: OK | F10: OK | G10: OK | H10: 20 | J10: MOENA (AC221E00026*) | K10: OK | L10: OK | N10: =(9-COUNTBLANK(D10:L10))/9 -> 0.88888889
A11: 10 | B11: =IF(N11<50%,"no","sì") -> sì | C11: LA BUONA FONTE | D11: associazione | E11: OK | F11: OK | G11: OK | H11: 18.56 | I11: 25 | J11: STORO (AC221E00002) | K11: OK | M11: 001 | N11: =(9-COUNTBLANK(D11:L11))/9 -> 0.88888889
A12: 11 | B12: =IF(N12<50%,"no","sì") -> sì | C12: NOS ENERGIA | D12: cooperativa | E12: OK | F12: OK | G12: OK | H12: 6 | I12: 3 | J12: TASSULLO (AC221E00010) | K12: OK | L12: OK | N12: =(9-COUNTBLANK(D12:L12))/9 -> 1
A13: 12 | B13: =IF(N13<50%,"no","sì") -> no | C13: CER CEMBRA | D13: associazione | F13: OK | J13: VARENA (AC221E00022*) | K13: OK | N13: =(9-COUNTBLANK(D13:L13))/9 -> 0.44444444
A14: 13 | B14: =IF(N14<50%,"no","sì") -> sì | C14: TECER | D14: associazione | E14: OK | F14: OK | G14: OK | H14: 35 | I14: 62 | J14: P.S. GIORGIO (AC221E00019*) | K14: OK | L14: OK | N14: =(9-COUNTBLANK(D14:L14))/9 -> 1
A15: 14 | B15: =IF(N15<50%,"no","sì") -> sì | C15: COM.EN.PINE' | D15: associazione | F15: OK | G15: OK | H15: 74 | I15: 58 | J15: BRAZZANIGA (AC221E00021*) | K15: OK | L15: OK | N15: =(9-COUNTBLANK(D15:L15))/9 -> 0.88888889
A16: 15 | B16: =IF(N16<50%,"no","sì") -> sì | C16: CIVE C'è | D16: associazione | F16: OK | G16: OK | J16: BRAZZANIGA (AC221E00021*) | K16: OK | L16: OK | N16: =(9-COUNTBLANK(D16:L16))/9 -> 0.66666667
A17: 16 | B17: =IF(N17<50%,"no","sì") -> sì | C17: CER CAR | D17: associazione | E17: OK | F17: OK | G17: OK | H17: 80 | I17: 36 | J17: P.S. GIORGIO (AC221E00019) | K17: OK | N17: =(9-COUNTBLANK(D17:L17))/9 -> 0.88888889
A18: 17 | B18: =IF(N18<50%,"no","sì") -> no | C18: CER ZARGA | J18: LAVIS (AC221E00018) | N18: =(9-COUNTBLANK(D18:L18))/9 -> 0.11111111
A19: 18 | B19: =IF(N19<50%,"no","sì") -> no | C19: CER A DOLTRA | H19: 8 | I19: 3 | J19: CASTELPIETRA(AC014E00001) | M19: 002 | N19: =(9-COUNTBLANK(D19:L19))/9 -> 0.33333333
A20: 19 | B20: =IF(N20<50%,"no","sì") -> no | C20: SOLARIA | D20: associazione | N20: =(9-COUNTBLANK(D20:L20))/9 -> 0.11111111
A21: 20 | B21: =IF(N21<50%,"no","sì") -> sì | C21: CER DEL SARCA | D21: cooperativa | E21: OK | F21: OK | G21: OK | H21: 1011 | I21: 84 | J21: ARCO (AC221E00005) DRO (AC221E00008) GIUSTINO (AC221E00003) LA ROCCA (AC221E00000) LAVIS (AC221E00018) NEMBIA (AC221E00007) S.MASSENZA (AC221E00009) STORO (AC221E00002) | K21: OK | N21: =(9-COUNTBLANK(D21:L21))/9 -> 0.88888889
A22: 21 | B22: =IF(N22<50%,"no","sì") -> sì | C22: CER VALLAGARINA | D22: cooperativa | E22: OK | F22: OK | G22: OK | H22: 300 | I22: 10 | J22: ROVERETO NORD (AC221E00014*) | K22: OK | N22: =(9-COUNTBLANK(D22:L22))/9 -> 0.88888889
A23: 22 | B23: =IF(N23<50%,"no","sì") -> sì | C23: CER SOLIDALE TRENTINA | D23: cooperativa | E23: OK | F23: OK | G23: OK | I23: 11 | J23: ROVERETO NORD (AC221E00014*) LIZZANA (AC221E000012*) S.COLOMBANO (AC221E00017*) | K23: OK | N23: =(9-COUNTBLANK(D23:L23))/9 -> 0.77777778
A24: 23 | B24: =IF(N24<50%,"no","sì") -> sì | C24: ATTIV CER DEL PRIMIERO | D24: associazione | H24: 327 | I24: 10 | J24: CASTELPIETRA (AC014E00001) | K24: OK | N24: =(9-COUNTBLANK(D24:L24))/9 -> 0.55555556
A25: 24 | B25: =IF(N25<50%,"no","sì") -> sì | C25: CER TER VANOI | D25: associazione | H25: 251 | I25: 8 | J25: SAN SILVESTRO (AC014E00002*) | K25: OK | N25: =(9-COUNTBLANK(D25:L25))/9 -> 0.55555556
A26: 25 | B26: =IF(N26<50%,"no","sì") -> no | C26: FONDAZIONE SOLERGIA | H26: 52 | I26: 4 | J26: SAN SILVESTRO (AC014E00002) LAVIS (AC221E00018) | N26: =(9-COUNTBLANK(D26:L26))/9 -> 0.33333333
A27: 26 | B27: =IF(N27<50%,"no","sì") -> sì | C27: EUREKA CER | D27: cooperativa | E27: OK | F27: OK | G27: OK | H27: =86.6+4 -> 90.6 | I27: =3+2 -> 5 | J27: NEMBIA (AC221E00007) TN SUD (AC221E000015) | K27: OK | N27: =(9-COUNTBLANK(D27:L27))/9 -> 0.88888889
A28: 27 | B28: =IF(N28<50%,"no","sì") -> no | C28: FONDAZIONE DIOCESI ENERGY ETS | D28: fondazione | I28: 5 | J28: CASTELPIETRA (AC014E00001*), SAN SILVESTRO (AC014E00002*), AIR ROTALIANA (AC083E00001*), LA ROCCA (AC221E00000*), CIMEGO (AC221E00001*), STORO (AC221E00002*), GIUSTINO (AC221E00003*), OSSANA (AC221E00004*), ARCO (AC221E00005*), MONCLASSICO (AC221E00006*), NEMBIA (AC221E00007*), DRO (AC221E00008*), S.MASSENZA (AC221E00009*), TASSULLO (AC221E00010*), AVIO (AC221E00011*), LIZZANA (AC221E00012*), MASOCORONA (AC221E00013*), ROVERETO NORD (AC221E00014*), TN SUD (AC221E00015*), S.MICHELE (AC221E00016*), S.COLOMBANO (AC221E00017*), LAVIS (AC221E00018*), P.S. GIORGIO (AC221E00019*), CALDONAZZO (AC221E00020*), BRAZZANIGA (AC221E00021*), VARENA (AC221E00022*), BORGO VALSUGANA (AC221E00023*), SCURELLE (AC221E00024*), PREDAZZO (AC221E00025*), MOENA (AC221E00026*), GRIGNO (AC221E00027*), CAMPITELLO (AC221E00028*) | N28: =(9-COUNTBLANK(D28:L28))/9 -> 0.33333333
A29: 28 | B29: =IF(N29<50%,"no","sì") -> no | C29: EYCO SOCIETÀ COOPERATIVA | D29: cooperativa | H29: =10+6+7.6+3+3+4+11.6+3+8+38.55+7.12+3+2.23+13.8+3 -> 123.9 | I29: =3+4+5+2+2+2+6+2+3+9+2+2+1+6+2 -> 51 | J29: OSSANA (AC221E00004), ARCO (AC221E00005), TASSULLO (AC221E00010), ROVERETO NORD (AC221E00014), BRAZZANIGA (AC221E00021), VARENA (AC221E00022), BORGO VALSUGANA (AC221E00023), LIZZANA (AC221E000012) | N29: =(9-COUNTBLANK(D29:L29))/9 -> 0.44444444
A30: 29 | B30: =IF(N30<50%,"no","sì") -> no | N30: =(9-COUNTBLANK(D30:L30))/9 -> 0
A31: 30 | B31: =IF(N31<50%,"no","sì") -> no | N31: =(9-COUNTBLANK(D31:L31))/9 -> 0
A32: 31 | B32: =IF(N32<50%,"no","sì") -> no | N32: =(9-COUNTBLANK(D32:L32))/9 -> 0
A33: 32 | B33: =IF(N33<50%,"no","sì") -> no | N33: =(9-COUNTBLANK(D33:L33))/9 -> 0
A34: 33 | B34: =IF(N34<50%,"no","sì") -> no | N34: =(9-COUNTBLANK(D34:L34))/9 -> 0
A35: 34 | B35: =IF(N35<50%,"no","sì") -> no | N35: =(9-COUNTBLANK(D35:L35))/9 -> 0
A36: 35 | B36: =IF(N36<50%,"no","sì") -> no | N36: =(9-COUNTBLANK(D36:L36))/9 -> 0
A37: 36 | B37: =IF(N37<50%,"no","sì") -> no | N37: =(9-COUNTBLANK(D37:L37))/9 -> 0
A38: 37 | B38: =IF(N38<50%,"no","sì") -> no | N38: =(9-COUNTBLANK(D38:L38))/9 -> 0
A39: 38 | B39: =IF(N39<50%,"no","sì") -> no | N39: =(9-COUNTBLANK(D39:L39))/9 -> 0
A40: 39 | B40: =IF(N40<50%,"no","sì") -> no | N40: =(9-COUNTBLANK(D40:L40))/9 -> 0
A41: 40 | B41: =IF(N41<50%,"no","sì") -> no | N41: =(9-COUNTBLANK(D41:L41))/9 -> 0
... A51: 50 | B51: =IF(N51<50%,"no","sì") -> no | N51: =(9-COUNTBLANK(D51:L51))/9 -> 0

Sheet Foglio2_tabella_infoenergia
B1: NOME | C1: N°EL.PROV. | D1: FORMA GIURIDICA | E1: CABINA PRIMARIA | F1: POTENZA INSTALLATA (kW) | G1: NUMERO UTENZE | H1: contatto
A2: 1 | B2: =Foglio1!C24 -> ATTIV CER DEL PRIMIERO | D2: =VLOOKUP(B2,Foglio1!$C$2:$M$103,2,FALSE()) -> associazione | E2: =VLOOKUP(B2,Foglio1!$C$2:$M$103,8,FALSE()) -> CASTELPIETRA (AC014E00001) | F2: =VLOOKUP(B2,Foglio1!$C$2:$M$103,6,FALSE()) -> 327 | G2: =VLOOKUP(B2,Foglio1!$C$2:$M$103,7,FALSE()) -> 10 | H2: info@escoprimiero.it
A3: 2 | B3: =Foglio1!C19 -> CER A DOLTRA | C3: =VLOOKUP(B3,Foglio1!$C$2:$M$103,11,FALSE()) -> 002 | D3: =VLOOKUP(B3,Foglio1!$C$2:$M$103,2,FALSE()) | E3: =VLOOKUP(B3,Foglio1!$C$2:$M$103,8,FALSE()) -> CASTELPIETRA(AC014E00001) | F3: =VLOOKUP(B3,Foglio1!$C$2:$M$103,6,FALSE()) -> 8 | G3: =VLOOKUP(B3,Foglio1!$C$2:$M$103,7,FALSE()) -> 3
A4: 3 | B4: =Foglio1!C17 -> CER CAR | C4: =VLOOKUP(B4,Foglio1!$C$2:$M$103,11,FALSE()) | D4: =VLOOKUP(B4,Foglio1!$C$2:$M$103,2,FALSE()) -> associazione | E4: =VLOOKUP(B4,Foglio1!$C$2:$M$103,8,FALSE()) -> P.S. GIORGIO (AC221E00019) | F4: =VLOOKUP(B4,Foglio1!$C$2:$M$103,6,FALSE()) -> 80 | G4: =VLOOKUP(B4,Foglio1!$C$2:$M$103,7,FALSE()) -> 36 | H4: info@cercar.info
A5: 4 | B5: =Foglio1!C13 -> CER CEMBRA | C5: =VLOOKUP(B5,Foglio1!$C$2:$M$103,11,FALSE()) | D5: =VLOOKUP(B5,Foglio1!$C$2:$M$103,2,FALSE()) -> associazione | E5: =VLOOKUP(B5,Foglio1!$C$2:$M$103,8,FALSE()) -> VARENA (AC221E00022*) | F5: =VLOOKUP(B5,Foglio1!$C$2:$M$103,6,FALSE()) | G5: =VLOOKUP(B5,Foglio1!$C$2:$M$103,7,FALSE()) | H5: cer.valledicembra@gmail.com
A6: 5 | B6: =Foglio1!C21 -> CER DEL SARCA | D6: =VLOOKUP(B6,Foglio1!$C$2:$M$103,2,FALSE()) -> cooperativa | E6: =VLOOKUP(B6,Foglio1!$C$2:$M$103,8,FALSE()) -> ARCO (AC221E00005) DRO (AC221E00008) GIUSTINO (AC221E00003) LA ROCCA (AC221E00000) LAVIS (AC221E00018) NEMBIA (AC221E00007) S.MASSENZA (AC221E00009) STORO (AC221E00002) | F6: =VLOOKUP(B6,Foglio1!$C$2:$M$103,6,FALSE()) -> 1011 | G6: =VLOOKUP(B6,Foglio1!$C$2:$M$103,7,FALSE()) -> 84 | H6: mauro.chiodega@provincia.tn.it
A7: 6 | B7: =Foglio1!C9 -> CER FIEMME | C7: =VLOOKUP(B7,Foglio1!$C$2:$M$103,11,FALSE()) | D7: =VLOOKUP(B7,Foglio1!$C$2:$M$103,2,FALSE()) -> cooperativa | E7: =VLOOKUP(B7,Foglio1!$C$2:$M$103,8,FALSE()) -> VARENA (AC221E00022*) | F7: =VLOOKUP(B7,Foglio1!$C$2:$M$103,6,FALSE()) -> 358 | G7: =VLOOKUP(B7,Foglio1!$C$2:$M$103,7,FALSE()) -> 31 | H7: info@cerfiemme.it info@valentinavanzo.it,
A8: 7 | B8: =Foglio1!C23 -> CER SOLIDALE TRENTINA | D8: =VLOOKUP(B8,Foglio1!$C$2:$M$103,2,FALSE()) -> cooperativa | E8: =VLOOKUP(B8,Foglio1!$C$2:$M$103,8,FALSE()) -> ROVERETO NORD (AC221E00014*) LIZZANA (AC221E000012*) S.COLOMBANO (AC221E00017*) | F8: =VLOOKUP(B8,Foglio1!$C$2:$M$103,6,FALSE()) | G8: =VLOOKUP(B8,Foglio1!$C$2:$M$103,7,FALSE()) -> 11 | H8: info@trentino.cersolidale.org
A9: 8 | B9: =Foglio1!C8 -> CER TENNA | C9: =VLOOKUP(B9,Foglio1!$C$2:$M$103,11,FALSE()) | D9: =VLOOKUP(B9,Foglio1!$C$2:$M$103,2,FALSE()) -> associazione | E9: =VLOOKUP(B9,Foglio1!$C$2:$M$103,8,FALSE()) -> CALDONAZZO (AC221E00020*) | F9: =VLOOKUP(B9,Foglio1!$C$2:$M$103,6,FALSE()) | G9: =VLOOKUP(B9,Foglio1!$C$2:$M$103,7,FALSE())
A10: 9 | B10: =Foglio1!C25 -> CER TER VANOI | D10: =VLOOKUP(B10,Foglio1!$C$2:$M$103,2,FALSE()) -> associazione | E10: =VLOOKUP(B10,Foglio1!$C$2:$M$103,8,FALSE()) -> SAN SILVESTRO (AC014E00002*) | F10: =VLOOKUP(B10,Foglio1!$C$2:$M$103,6,FALSE()) -> 251 | G10: =VLOOKUP(B10,Foglio1!$C$2:$M$103,7,FALSE()) -> 8 | H10: info@escoprimiero.it
A11: 10 | B11: =Foglio1!C5 -> CER.TO - CER TRENTINO ORIENTALE | C11: =VLOOKUP(B11,Foglio1!$C$2:$M$103,11,FALSE()) | D11: =VLOOKUP(B11,Foglio1!$C$2:$M$103,2,FALSE()) -> cooperativa | E11: =VLOOKUP(B11,Foglio1!$C$2:$M$103,8,FALSE()) -> BORGO VALSUGANA (AC221E00023) GRIGNO (AC221E00027) SCURELLE (AC221E00024*) | F11: =VLOOKUP(B11,Foglio1!$C$2:$M$103,6,FALSE()) -> 1500 | G11: =VLOOKUP(B11,Foglio1!$C$2:$M$103,7,FALSE()) -> 90 | H11: info@certo.coop
A12: 11 | B12: =Foglio1!C22 -> CER VALLAGARINA | D12: =VLOOKUP(B12,Foglio1!$C$2:$M$103,2,FALSE()) -> cooperativa | E12: =VLOOKUP(B12,Foglio1!$C$2:$M$103,8,FALSE()) -> ROVERETO NORD (AC221E00014*) | F12: =VLOOKUP(B12,Foglio1!$C$2:$M$103,6,FALSE()) -> 300 | G12: =VLOOKUP(B12,Foglio1!$C$2:$M$103,7,FALSE()) -> 10 | H12: maffeirinaldo@gmail.com cervallagarina@gmail.com
A13: 12 | B13: =Foglio1!C3 -> CER VALLE DEI LAGHI | C13: =VLOOKUP(B13,Foglio1!$C$2:$M$103,11,FALSE()) | D13: =VLOOKUP(B13,Foglio1!$C$2:$M$103,2,FALSE()) -> cooperativa | E13: =VLOOKUP(B13,Foglio1!$C$2:$M$103,8,FALSE()) -> MADRUZZO (AC221E00009*) | F13: =VLOOKUP(B13,Foglio1!$C$2:$M$103,6,FALSE()) | G13: =VLOOKUP(B13,Foglio1!$C$2:$M$103,7,FALSE()) | H13: cervalledeilaghi@gmail.com
A14: 13 | B14: =Foglio1!C18 -> CER ZARGA | C14: =VLOOKUP(B14,Foglio1!$C$2:$M$103,11,FALSE()) | D14: =VLOOKUP(B14,Foglio1!$C$2:$M$103,2,FALSE()) | E14: =VLOOKUP(B14,Foglio1!$C$2:$M$103,8,FALSE()) -> LAVIS (AC221E00018) | F14: =VLOOKUP(B14,Foglio1!$C$2:$M$103,6,FALSE()) | G14: =VLOOKUP(B14,Foglio1!$C$2:$M$103,7,FALSE())
A15: 14 | B15: =Foglio1!C6 -> CERVALS | C15: =VLOOKUP(B15,Foglio1!$C$2:$M$103,11,FALSE()) | D15: =VLOOKUP(B15,Foglio1!$C$2:$M$103,2,FALSE()) | E15: =VLOOKUP(B15,Foglio1!$C$2:$M$103,8,FALSE()) -> SCURELLE (AC221E00024*) | F15: =VLOOKUP(B15,Foglio1!$C$2:$M$103,6,FALSE()) | G15: =VLOOKUP(B15,Foglio1!$C$2:$M$103,7,FALSE())
A16: 15 | B16: =Foglio1!C10 -> CESLA | C16: =VLOOKUP(B16,Foglio1!$C$2:$M$103,11,FALSE()) | D16: =VLOOKUP(B16,Foglio1!$C$2:$M$103,2,FALSE()) -> associazione | E16: =VLOOKUP(B16,Foglio1!$C$2:$M$103,8,FALSE()) -> MOENA (AC221E00026*) | F16: =VLOOKUP(B16,Foglio1!$C$2:$M$103,6,FALSE()) -> 20 | G16: =VLOOKUP(B16,Foglio1!$C$2:$M$103,7,FALSE()) | H16: thomas.zulian@scuole.provincia.tn.it
A17: 16 | B17: =Foglio1!C16 -> CIVE C'è | C17: =VLOOKUP(B17,Foglio1!$C$2:$M$103,11,FALSE()) | D17: =VLOOKUP(B17,Foglio1!$C$2:$M$103,2,FALSE()) -> associazione | E17: =VLOOKUP(B17,Foglio1!$C$2:$M$103,8,FALSE()) -> BRAZZANIGA (AC221E00021*) | F17: =VLOOKUP(B17,Foglio1!$C$2:$M$103,6,FALSE()) | G17: =VLOOKUP(B17,Foglio1!$C$2:$M$103,7,FALSE()) | H17: cercivezzano@gmail.com
A18: 17 | B18: =Foglio1!C15 -> COM.EN.PINE' | C18: =VLOOKUP(B18,Foglio1!$C$2:$M$103,11,FALSE()) | D18: =VLOOKUP(B18,Foglio1!$C$2:$M$103,2,FALSE()) -> associazione | E18: =VLOOKUP(B18,Foglio1!$C$2:$M$103,8,FALSE()) -> BRAZZANIGA (AC221E00021*) | F18: =VLOOKUP(B18,Foglio1!$C$2:$M$103,6,FALSE()) -> 74 | G18: =VLOOKUP(B18,Foglio1!$C$2:$M$103,7,FALSE()) -> 58 | H18: comunita.energetica.pine@gmail.com
A19: 18 | B19: =Foglio1!C7 -> ENERGIA NUOVA VALLARSA | C19: =VLOOKUP(B19,Foglio1!$C$2:$M$103,11,FALSE()) | D19: =VLOOKUP(B19,Foglio1!$C$2:$M$103,2,FALSE()) -> associazione | E19: =VLOOKUP(B19,Foglio1!$C$2:$M$103,8,FALSE()) -> S.COLOMBANO (AC221E00017*) | F19: =VLOOKUP(B19,Foglio1!$C$2:$M$103,6,FALSE()) -> 380 | G19: =VLOOKUP(B19,Foglio1!$C$2:$M$103,7,FALSE()) -> 120 | H19: geremiagios@gmail.com
A20: 19 | B20: =Foglio1!C27 -> EUREKA CER | D20: =VLOOKUP(B20,Foglio1!$C$2:$M$103,2,FALSE()) -> cooperativa | E20: =VLOOKUP(B20,Foglio1!$C$2:$M$103,8,FALSE()) -> NEMBIA (AC221E00007) TN SUD (AC221E000015) | F20: =VLOOKUP(B20,Foglio1!$C$2:$M$103,6,FALSE()) -> 90.6 | G20: =VLOOKUP(B20,Foglio1!$C$2:$M$103,7,FALSE()) -> 5 | H20: info@eurekaitalia.eu
A21: 20 | B21: =Foglio1!C28 -> FONDAZIONE DIOCESI ENERGY ETS | D21: =VLOOKUP(B21,Foglio1!$C$2:$M$103,2,FALSE()) -> fondazione | E21: =VLOOKUP(B21,Foglio1!$C$2:$M$103,8,FALSE()) -> CASTELPIETRA (AC014E00001*), SAN SILVESTRO (AC014E00002*), AIR ROTALIANA (AC083E00001*), LA ROCCA (AC221E00000*), CIMEGO (AC221E00001*), STORO (AC221E00002*), GIUSTINO (AC221E00003*), OSSANA (AC221E00004*), ARCO (AC221E00005*), MONCLASSICO (AC221E00006*), NEMBIA (AC221E00007*), DRO (AC221E00008*), S.MASSENZA (AC221E00009*), TASSULLO (AC221E00010*), AVIO (AC221E00011*), LIZZANA (AC221E00012*), MASOCORONA (AC221E00013*), ROVERETO NORD (AC221E00014*), TN SUD (AC221E00015*), S.MICHELE (AC221E00016*), S.COLOMBANO (AC221E00017*), LAVIS (AC221E00018*), P.S. GIORGIO (AC221E00019*), CALDONAZZO (AC221E00020*), BRAZZANIGA (AC221E00021*), VARENA (AC221E00022*), BORGO VALSUGANA (AC221E00023*), SCURELLE (AC221E00024*), PREDAZZO (AC221E00025*), MOENA (AC221E00026*), GRIGNO (AC221E00027*), CAMPITELLO (AC221E00028*) | F21: =VLOOKUP(B21,Foglio1!$C$2:$M$103,6,FALSE()) | G21: =VLOOKUP(B21,Foglio1!$C$2:$M$103,7,FALSE()) -> 5 | H21: cer@diocesitn.it,
A22: 21 | B22: =Foglio1!C26 -> FONDAZIONE SOLERGIA | D22: =VLOOKUP(B22,Foglio1!$C$2:$M$103,2,FALSE()) | E22: =VLOOKUP(B22,Foglio1!$C$2:$M$103,8,FALSE()) -> SAN SILVESTRO (AC014E00002) LAVIS (AC221E00018) | F22: =VLOOKUP(B22,Foglio1!$C$2:$M$103,6,FALSE()) -> 52 | G22: =VLOOKUP(B22,Foglio1!$C$2:$M$103,7,FALSE()) -> 4
A23: 22 | B23: =Foglio1!C2 -> GREENLAND | C23: =VLOOKUP(B23,Foglio1!$C$2:$M$103,11,FALSE()) -> 003 | D23: =VLOOKUP(B23,Foglio1!$C$2:$M$103,2,FALSE()) -> cooperativa | E23: =VLOOKUP(B23,Foglio1!$C$2:$M$103,8,FALSE()) -> CALDONAZZO (AC221E00020) ROVERETO NORD (AC221E00014) S.COLOMBANO (AC221E00017) | F23: =VLOOKUP(B23,Foglio1!$C$2:$M$103,6,FALSE()) -> 93 | G23: =VLOOKUP(B23,Foglio1!$C$2:$M$103,7,FALSE()) -> 215 | H23: isacco.corradi@greenland.tn.it,
A24: 23 | B24: =Foglio1!C4 -> KONCERT | C24: =VLOOKUP(B24,Foglio1!$C$2:$M$103,11,FALSE()) -> 004 | D24: =VLOOKUP(B24,Foglio1!$C$2:$M$103,2,FALSE()) -> cooperativa | E24: =VLOOKUP(B24,Foglio1!$C$2:$M$103,8,FALSE()) -> S.MICHELE (AC221E00016) AIR ROTALIANA (AC083E00001) LAVIS (AC221E00018*) P.S.GIORGIO (AC221E00019*) TN SUD (AC221E000015*) | F24: =VLOOKUP(B24,Foglio1!$C$2:$M$103,6,FALSE()) -> 1400 | G24: =VLOOKUP(B24,Foglio1!$C$2:$M$103,7,FALSE()) -> 340 | H24: enzo.tomasi@koncert.it,
A25: 24 | B25: =Foglio1!C11 -> LA BUONA FONTE | C25: =VLOOKUP(B25,Foglio1!$C$2:$M$103,11,FALSE()) -> 001 | D25: =VLOOKUP(B25,Foglio1!$C$2:$M$103,2,FALSE()) -> associazione | E25: =VLOOKUP(B25,Foglio1!$C$2:$M$103,8,FALSE()) -> STORO (AC221E00002) | F25: =VLOOKUP(B25,Foglio1!$C$2:$M$103,6,FALSE()) -> 18.56 | G25: =VLOOKUP(B25,Foglio1!$C$2:$M$103,7,FALSE()) -> 25 | H25: cerriccomassimo@gmail.com
A26: 25 | B26: =Foglio1!C12 -> NOS ENERGIA | C26: =VLOOKUP(B26,Foglio1!$C$2:$M$103,11,FALSE()) | D26: =VLOOKUP(B26,Foglio1!$C$2:$M$103,2,FALSE()) -> cooperativa | E26: =VLOOKUP(B26,Foglio1!$C$2:$M$103,8,FALSE()) -> TASSULLO (AC221E00010) | F26: =VLOOKUP(B26,Foglio1!$C$2:$M$103,6,FALSE()) -> 6 | G26: =VLOOKUP(B26,Foglio1!$C$2:$M$103,7,FALSE()) -> 3 | H26: cer@nosenergia.it
A27: 26 | B27: =Foglio1!C20 -> SOLARIA | D27: =VLOOKUP(B27,Foglio1!$C$2:$M$103,2,FALSE()) -> associazione | E27: =VLOOKUP(B27,Foglio1!$C$2:$M$103,8,FALSE()) | F27: =VLOOKUP(B27,Foglio1!$C$2:$M$103,6,FALSE()) | G27: =VLOOKUP(B27,Foglio1!$C$2:$M$103,7,FALSE()) | H27: info@associazionesolaria.it
A28: 27 | B28: =Foglio1!C14 -> TECER | C28: =VLOOKUP(B28,Foglio1!$C$2:$M$103,11,FALSE()) | D28: =VLOOKUP(B28,Foglio1!$C$2:$M$103,2,FALSE()) -> associazione | E28: =VLOOKUP(B28,Foglio1!$C$2:$M$103,8,FALSE()) -> P.S. GIORGIO (AC221E00019*) | F28: =VLOOKUP(B28,Foglio1!$C$2:$M$103,6,FALSE()) -> 35 | G28: =VLOOKUP(B28,Foglio1!$C$2:$M$103,7,FALSE()) -> 62 | H28: info@tecer.it adesanta@gmail.com
A29: 28 | B29: =Foglio1!C29 -> EYCO SOCIETÀ COOPERATIVA | D29: =VLOOKUP(B29,Foglio1!$C$2:$M$103,2,FALSE()) -> cooperativa | E29: =VLOOKUP(B29,Foglio1!$C$2:$M$103,8,FALSE()) -> OSSANA (AC221E00004), ARCO (AC221E00005), TASSULLO (AC221E00010), ROVERETO NORD (AC221E00014), BRAZZANIGA (AC221E00021), VARENA (AC221E00022), BORGO VALSUGANA (AC221E00023), LIZZANA (AC221E000012) | F29: =VLOOKUP(B29,Foglio1!$C$2:$M$103,6,FALSE()) -> 123.9 | G29: =VLOOKUP(B29,Foglio1!$C$2:$M$103,7,FALSE()) -> 51
A30: 29 | B30: =Foglio1!C30 | D30: =VLOOKUP(B30,Foglio1!$C$2:$M$103,2,FALSE()) -> #N/A | E30: =VLOOKUP(B30,Foglio1!$C$2:$M$103,8,FALSE()) -> #N/A | F30: =VLOOKUP(B30,Foglio1!$C$2:$M$103,6,FALSE()) -> #N/A | G30: =VLOOKUP(B30,Foglio1!$C$2:$M$103,7,FALSE()) -> #N/A
A31: 30 | B31: =Foglio1!C31 | D31: =VLOOKUP(B31,Foglio1!$C$2:$M$103,2,FALSE()) -> #N/A | E31: =VLOOKUP(B31,Foglio1!$C$2:$M$103,8,FALSE()) -> #N/A | F31: =VLOOKUP(B31,Foglio1!$C$2:$M$103,6,FALSE()) -> #N/A | G31: =VLOOKUP(B31,Foglio1!$C$2:$M$103,7,FALSE()) -> #N/A
A32: 31 | B32: =Foglio1!C32 | D32: =VLOOKUP(B32,Foglio1!$C$2:$M$103,2,FALSE()) -> #N/A | E32: =VLOOKUP(B32,Foglio1!$C$2:$M$103,8,FALSE()) -> #N/A | F32: =VLOOKUP(B32,Foglio1!$C$2:$M$103,6,FALSE()) -> #N/A | G32: =VLOOKUP(B32,Foglio1!$C$2:$M$103,7,FALSE()) -> #N/A
A33: 32 | B33: =Foglio1!C33 | D33: =VLOOKUP(B33,Foglio1!$C$2:$M$103,2,FALSE()) -> #N/A | E33: =VLOOKUP(B33,Foglio1!$C$2:$M$103,8,FALSE()) -> #N/A | F33: =VLOOKUP(B33,Foglio1!$C$2:$M$103,6,FALSE()) -> #N/A | G33: =VLOOKUP(B33,Foglio1!$C$2:$M$103,7,FALSE()) -> #N/A
A34: 33 | B34: =Foglio1!C34 | D34: =VLOOKUP(B34,Foglio1!$C$2:$M$103,2,FALSE()) -> #N/A | E34: =VLOOKUP(B34,Foglio1!$C$2:$M$103,8,FALSE()) -> #N/A | F34: =VLOOKUP(B34,Foglio1!$C$2:$M$103,6,FALSE()) -> #N/A | G34: =VLOOKUP(B34,Foglio1!$C$2:$M$103,7,FALSE()) -> #N/A
A35: 34 | B35: =Foglio1!C35 | D35: =VLOOKUP(B35,Foglio1!$C$2:$M$103,2,FALSE()) -> #N/A | E35: =VLOOKUP(B35,Foglio1!$C$2:$M$103,8,FALSE()) -> #N/A | F35: =VLOOKUP(B35,Foglio1!$C$2:$M$103,6,FALSE()) -> #N/A | G35: =VLOOKUP(B35,Foglio1!$C$2:$M$103,7,FALSE()) -> #N/A
A36: 35 | B36: =Foglio1!C36 | D36: =VLOOKUP(B36,Foglio1!$C$2:$M$103,2,FALSE()) -> #N/A | E36: =VLOOKUP(B36,Foglio1!$C$2:$M$103,8,FALSE()) -> #N/A | F36: =VLOOKUP(B36,Foglio1!$C$2:$M$103,6,FALSE()) -> #N/A | G36: =VLOOKUP(B36,Foglio1!$C$2:$M$103,7,FALSE()) -> #N/A
A37: 36 | B37: =Foglio1!C37 | D37: =VLOOKUP(B37,Foglio1!$C$2:$M$103,2,FALSE()) -> #N/A | E37: =VLOOKUP(B37,Foglio1!$C$2:$M$103,8,FALSE()) -> #N/A | F37: =VLOOKUP(B37,Foglio1!$C$2:$M$103,6,FALSE()) -> #N/A | G37: =VLOOKUP(B37,Foglio1!$C$2:$M$103,7,FALSE()) -> #N/A
A38: 37 | B38: =Foglio1!C38 | D38: =VLOOKUP(B38,Foglio1!$C$2:$M$103,2,FALSE()) -> #N/A | E38: =VLOOKUP(B38,Foglio1!$C$2:$M$103,8,FALSE()) -> #N/A | F38: =VLOOKUP(B38,Foglio1!$C$2:$M$103,6,FALSE()) -> #N/A | G38: =VLOOKUP(B38,Foglio1!$C$2:$M$103,7,FALSE()) -> #N/A
A39: 38 | B39: =Foglio1!C39 | D39: =VLOOKUP(B39,Foglio1!$C$2:$M$103,2,FALSE()) -> #N/A | E39: =VLOOKUP(B39,Foglio1!$C$2:$M$103,8,FALSE()) -> #N/A | F39: =VLOOKUP(B39,Foglio1!$C$2:$M$103,6,FALSE()) -> #N/A | G39: =VLOOKUP(B39,Foglio1!$C$2:$M$103,7,FALSE()) -> #N/A
A40: 39 | B40: =Foglio1!C40 | D40: =VLOOKUP(B40,Foglio1!$C$2:$M$103,2,FALSE()) -> #N/A | E40: =VLOOKUP(B40,Foglio1!$C$2:$M$103,8,FALSE()) -> #N/A | F40: =VLOOKUP(B40,Foglio1!$C$2:$M$103,6,FALSE()) -> #N/A | G40: =VLOOKUP(B40,Foglio1!$C$2:$M$103,7,FALSE()) -> #N/A
... A51: 50 | B51: =Foglio1!C51 | D51: =VLOOKUP(B51,Foglio1!$C$2:$M$103,2,FALSE()) -> #N/A | E51: =VLOOKUP(B51,Foglio1!$C$2:$M$103,8,FALSE()) -> #N/A | F51: =VLOOKUP(B51,Foglio1!$C$2:$M$103,6,FALSE()) -> #N/A | G51: =VLOOKUP(B51,Foglio1!$C$2:$M$103,7,FALSE()) -> #N/A

Sheet Elenco_CER_comune_appoggio
A1: COMUNE | B1: CAP | C1: LOCALITA' | D1: PERCENTUALE | E1: CABINA PRIMARIA | F1: CODICE CABINA PRIMARIA | G1: CODICE CABINA PRIMARIA | H1: CER attive | I1: CER in espansione
A2: ALA | B2: 38061 | C2: ALA | D2: 1 | E2: MASOCORONA | F2: =VLOOKUP(E2,Foglio4!$A$2:$B$33,2,FALSE()) -> AC221E00013 | G2: =F2&"*" -> AC221E00013* | H2: =IFERROR(__xludf.DUMMYFUNCTION("+IFERROR(TEXTJOIN(char(10),TRUE(),FILTER(Foglio5!$B$2:$B$90,Foglio5!$A$2:$A$90=F2)),"""")"),"") | I2: =IFERROR(__xludf.DUMMYFUNCTION("TEXTJOIN(char(10),TRUE(),FILTER(Foglio5!$B$2:$B$90,Foglio5!$A$2:$A$90=G2))"),"")
A3: ALBIANO | B3: 38041 | C3: ALBIANO | D3: 1 | E3: LAVIS | F3: =VLOOKUP(E3,Foglio4!$A$2:$B$33,2,FALSE()) -> AC221E00018 | G3: =F3&"*" -> AC221E00018* | H3: =IFERROR(__xludf.DUMMYFUNCTION("+IFERROR(TEXTJOIN(char(10),TRUE(),FILTER(Foglio5!$B$2:$B$90,Foglio5!$A$2:$A$90=F3)),"""")"),"CER ZARGA FONDAZIONE SOLERGIA") -> CER ZARGA FONDAZIONE SOLERGIA | I3: =IFERROR(__xludf.DUMMYFUNCTION("TEXTJOIN(char(10),TRUE(),FILTER(Foglio5!$B$2:$B$90,Foglio5!$A$2:$A$90=G3))"),"CER CAR CER DEL SARCA KONCERT") -> CER CAR CER DEL SARCA KONCERT
A4: ALDENO | B4: 38060 | C4: ALDENO | D4: 1 | E4: TN SUD | F4: =VLOOKUP(E4,Foglio4!$A$2:$B$33,2,FALSE()) -> AC221E00015 | G4: =F4&"*" -> AC221E00015* | H4: =IFERROR(__xludf.DUMMYFUNCTION("+IFERROR(TEXTJOIN(char(10),TRUE(),FILTER(Foglio5!$B$2:$B$90,Foglio5!$A$2:$A$90=F4)),"""")"),"") | I4: =IFERROR(__xludf.DUMMYFUNCTION("TEXTJOIN(char(10),TRUE(),FILTER(Foglio5!$B$2:$B$90,Foglio5!$A$2:$A$90=G4))"),"CER CAR") -> CER CAR
A5: ALTAVALLE | B5: 38092 | C5: FAVER | D5: 1 | E5: S.MICHELE | F5: =VLOOKUP(E5,Foglio4!$A$2:$B$33,2,FALSE()) -> AC221E00016 | G5: =F5&"*" -> AC221E00016* | H5: =IFERROR(__xludf.DUMMYFUNCTION("+IFERROR(TEXTJOIN(char(10),TRUE(),FILTER(Foglio5!$B$2:$B$90,Foglio5!$A$2:$A$90=F5)),"""")"),"KONCERT") -> KONCERT | I5: =IFERROR(__xludf.DUMMYFUNCTION("TEXTJOIN(char(10),TRUE(),FILTER(Foglio5!$B$2:$B$90,Foglio5!$A$2:$A$90=G5))"),"")
A6: ALTAVALLE | B6: 38092 | C6: GRAUNO | D6: 1 | E6: VARENA | F6: =VLOOKUP(E6,Foglio4!$A$2:$B$33,2,FALSE()) -> AC221E00022 | G6: =F6&"*" -> AC221E00022* | H6: =IFERROR(__xludf.DUMMYFUNCTION("+IFERROR(TEXTJOIN(char(10),TRUE(),FILTER(Foglio5!$B$2:$B$90,Foglio5!$A$2:$A$90=F6)),"""")"),"EYCO SOCIETÀ COOPERATIVA") -> EYCO SOCIETÀ COOPERATIVA | I6: =IFERROR(__xludf.DUMMYFUNCTION("TEXTJOIN(char(10),TRUE(),FILTER(Foglio5!$B$2:$B$90,Foglio5!$A$2:$A$90=G6))"),"CER CEMBRA CER FIEMME") -> CER CEMBRA CER FIEMME
A7: ALTAVALLE | B7: 38092 | C7: GRUMES | D7: 1 | E7: VARENA | F7: =VLOOKUP(E7,Foglio4!$A$2:$B$33,2,FALSE()) -> AC221E00022 | G7: =F7&"*" -> AC221E00022* | H7: =IFERROR(__xludf.DUMMYFUNCTION("+IFERROR(TEXTJOIN(char(10),TRUE(),FILTER(Foglio5!$B$2:$B$90,Foglio5!$A$2:$A$90=F7)),"""")"),"EYCO SOCIETÀ COOPERATIVA") -> EYCO SOCIETÀ COOPERATIVA | I7: =IFERROR(__xludf.DUMMYFUNCTION("TEXTJOIN(char(10),TRUE(),FILTER(Foglio5!$B$2:$B$90,Foglio5!$A$2:$A$90=G7))"),"CER CEMBRA CER FIEMME") -> CER CEMBRA CER FIEMME
A8: ALTAVALLE | B8: 38092 | C8: VALDA | D8: 1 | E8: VARENA | F8: =VLOOKUP(E8,Foglio4!$A$2:$B$33,2,FALSE()) -> AC221E00022 | G8: =F8&"*" -> AC221E00022* | H8: =IFERROR(__xludf.DUMMYFUNCTION("+IFERROR(TEXTJOIN(char(10),TRUE(),FILTER(Foglio5!$B$2:$B$90,Foglio5!$A$2:$A$90=F8)),"""")"),"EYCO SOCIETÀ COOPERATIVA") -> EYCO SOCIETÀ COOPERATIVA | I8: =IFERROR(__xludf.DUMMYFUNCTION("TEXTJOIN(char(10),TRUE(),FILTER(Foglio5!$B$2:$B$90,Foglio5!$A$2:$A$90=G8))"),"CER CEMBRA CER FIEMME") -> CER CEMBRA CER FIEMME
A9: ALTOPIANO DELLA VIGOLANA | B9: 38049 | C9: BOSENTINO | D9: 1 | E9: CALDONAZZO | F9: =VLOOKUP(E9,Foglio4!$A$2:$B$33,2,FALSE()) -> AC221E00020 | G9: =F9&"*" -> AC221E00020* | H9: =IFERROR(__xludf.DUMMYFUNCTION("+IFERROR(TEXTJOIN(char(10),TRUE(),FILTER(Foglio5!$B$2:$B$90,Foglio5!$A$2:$A$90=F9)),"""")"),"GREENLAND") -> GREENLAND | I9: =IFERROR(__xludf.DUMMYFUNCTION("TEXTJOIN(char(10),TRUE(),FILTER(Foglio5!$B$2:$B$90,Foglio5!$A$2:$A$90=G9))"),"CER TENNA") -> CER TENNA
A10: ALTOPIANO DELLA VIGOLANA | B10: 38049 | C10: CENTA S.NICOLO | D10: 1 | E10: CALDONAZZO | F10: =VLOOKUP(E10,Foglio4!$A$2:$B$33,2,FALSE()) -> AC221E00020 | G10: =F10&"*" -> AC221E00020* | H10: =IFERROR(__xludf.DUMMYFUNCTION("+IFERROR(TEXTJOIN(char(10),TRUE(),FILTER(Foglio5!$B$2:$B$90,Foglio5!$A$2:$A$90=F10)),"""")"),"GREENLAND") -> GREENLAND | I10: =IFERROR(__xludf.DUMMYFUNCTION("TEXTJOIN(char(10),TRUE(),FILTER(Foglio5!$B$2:$B$90,Foglio5!$A$2:$A$90=G10))"),"CER TENNA") -> CER TENNA
A11: ALTOPIANO DELLA VIGOLANA | B11: 38049 | C11: VATTARO | D11: 1 | E11: CALDONAZZO | F11: =VLOOKUP(E11,Foglio4!$A$2:$B$33,2,FALSE()) -> AC221E00020 | G11: =F11&"*" -> AC221E00020* | H11: =IFERROR(__xludf.DUMMYFUNCTION("+IFERROR(TEXTJOIN(char(10),TRUE(),FILTER(Foglio5!$B$2:$B$90,Foglio5!$A$2:$A$90=F11)),"""")"),"GREENLAND") -> GREENLAND | I11: =IFERROR(__xludf.DUMMYFUNCTION("TEXTJOIN(char(10),TRUE(),FILTER(Foglio5!$B$2:$B$90,Foglio5!$A$2:$A$90=G11))"),"CER TENNA") -> CER TENNA
A12: ALTOPIANO DELLA VIGOLANA | B12: 38049 | C12: VIGOLO VATTARO | D12: 0.86 | E12: CALDONAZZO | F12: =VLOOKUP(E12,Foglio4!$A$2:$B$33,2,FALSE()) -> AC221E00020 | G12: =F12&"*" -> AC221E00020* | H12: =IFERROR(__xludf.DUMMYFUNCTION("+IFERROR(TEXTJOIN(char(10),TRUE(),FILTER(Foglio5!$B$2:$B$90,Foglio5!$A$2:$A$90=F12)),"""")"),"GREENLAND") -> GREENLAND | I12: =IFERROR(__xludf.DUMMYFUNCTION("TEXTJOIN(char(10),TRUE(),FILTER(Foglio5!$B$2:$B$90,Foglio5!$A$2:$A$90=G12))"),"CER TENNA") -> CER TENNA
A13: ALTOPIANO DELLA VIGOLANA | B13: 38049 | C13: VIGOLO VATTARO | D13: 0.14 | E13: TN SUD | F13: =VLOOKUP(E13,Foglio4!$A$2:$B$33,2,FALSE()) -> AC221E00015 | G13: =F13&"*" -> AC221E00015* | H13: =IFERROR(__xludf.DUMMYFUNCTION("+IFERROR(TEXTJOIN(char(10),TRUE(),FILTER(Foglio5!$B$2:$B$90,Foglio5!$A$2:$A$90=F13)),"""")"),"") | I13: =IFERROR(__xludf.DUMMYFUNCTION("TEXTJOIN(char(10),TRUE(),FILTER(Foglio5!$B$2:$B$90,Foglio5!$A$2:$A$90=G13))"),"CER CAR") -> CER CAR
A14: AMBLAR-DON | B14: 38011 | C14: AMBLAR | D14: 1 | E14: TASSULLO | F14: =VLOOKUP(E14,Foglio4!$A$2:$B$33,2,FALSE()) -> AC221E00010 | G14: =F14&"*" -> AC221E00010* | H14: =IFERROR(__xludf.DUMMYFUNCTION("+IFERROR(TEXTJOIN(char(10),TRUE(),FILTER(Foglio5!$B$2:$B$90,Foglio5!$A$2:$A$90=F14)),"""")"),"EYCO SOCIETÀ COOPERATIVA NOS ENERGIA") -> EYCO SOCIETÀ COOPERATIVA NOS ENERGIA | I14: =IFERROR(__xludf.DUMMYFUNCTION("TEXTJOIN(char(10),TRUE(),FILTER(Foglio5!$B$2:$B$90,Foglio5!$A$2:$A$90=G14))"),"")
A15: AMBLAR-DON | B15: 38011 | C15: DON | D15: 1 | E15: TASSULLO | F15: =VLOOKUP(E15,Foglio4!$A$2:$B$33,2,FALSE()) -> AC221E00010 | G15: =F15&"*" -> AC221E00010* | H15: =IFERROR(__xludf.DUMMYFUNCTION("+IFERROR(TEXTJOIN(char(10),TRUE(),FILTER(Foglio5!$B$2:$B$90,Foglio5!$A$2:$A$90=F15)),"""")"),"EYCO SOCIETÀ COOPERATIVA NOS ENERGIA") -> EYCO SOCIETÀ COOPERATIVA NOS ENERGIA | I15: =IFERROR(__xludf.DUMMYFUNCTION("TEXTJOIN(char(10),TRUE(),FILTER(Foglio5!$B$2:$B$90,Foglio5!$A$2:$A$90=G15))"),"")
A16: ANDALO | B16: 38010 | C16: ANDALO | D16: 1 | E16: NEMBIA | F16: =VLOOKUP(E16,Foglio4!$A$2:$B$33,2,FALSE()) -> AC221E00007 | G16: =F16&"*" -> AC221E00007* | H16: =IFERROR(__xludf.DUMMYFUNCTION("+IFERROR(TEXTJOIN(char(10),TRUE(),FILTER(Foglio5!$B$2:$B$90,Foglio5!$A$2:$A$90=F16)),"""")"),"EUREKA CER") -> EUREKA CER | I16: =IFERROR(__xludf.DUMMYFUNCTION("TEXTJOIN(char(10),TRUE(),FILTER(Foglio5!$B$2:$B$90,Foglio5!$A$2:$A$90=G16))"),"CER DEL SARCA") -> CER DEL SARCA
A17: ARCO | B17: 38062 | C17: ARCO | D17: 0.94 | E17: ARCO | F17: =VLOOKUP(E17,Foglio4!$A$2:$B$33,2,FALSE()) -> AC221E00005 | G17: =F17&"*" -> AC221E00005* | H17: =IFERROR(__xludf.DUMMYFUNCTION("+IFERROR(TEXTJOIN(char(10),TRUE(),FILTER(Foglio5!$B$2:$B$90,Foglio5!$A$2:$A$90=F17)),"""")"),"EYCO SOCIETÀ COOPERATIVA") -> EYCO SOCIETÀ COOPERATIVA | I17: =IFERROR(__xludf.DUMMYFUNCTION("TEXTJOIN(char(10),TRUE(),FILTER(Foglio5!$B$2:$B$90,Foglio5!$A$2:$A$90=G17))"),"CER DEL SARCA") -> CER DEL SARCA
A18: ARCO | B18: 38062 | C18: ARCO | D18: 0.06 | E18: DRO | F18: =VLOOKUP(E18,Foglio4!$A$2:$B$33,2,FALSE()) -> AC221E00008 | G18: =F18&"*" -> AC221E00008* | H18: =IFERROR(__xludf.DUMMYFUNCTION("+IFERROR(TEXTJOIN(char(10),TRUE(),FILTER(Foglio5!$B$2:$B$90,Foglio5!$A$2:$A$90=F18)),"""")"),"") | I18: =IFERROR(__xludf.DUMMYFUNCTION("TEXTJOIN(char(10),TRUE(),FILTER(Foglio5!$B$2:$B$90,Foglio5!$A$2:$A$90=G18))"),"CER DEL SARCA") -> CER DEL SARCA
A19: AVIO | B19: 38063 | C19: AVIO | D19: 0.92 | E19: AVIO | F19: =VLOOKUP(E19,Foglio4!$A$2:$B$33,2,FALSE()) -> AC221E00011 | G19: =F19&"*" -> AC221E00011* | H19: =IFERROR(__xludf.DUMMYFUNCTION("+IFERROR(TEXTJOIN(char(10),TRUE(),FILTER(Foglio5!$B$2:$B$90,Foglio5!$A$2:$A$90=F19)),"""")"),"") | I19: =IFERROR(__xludf.DUMMYFUNCTION("TEXTJOIN(char(10),TRUE(),FILTER(Foglio5!$B$2:$B$90,Foglio5!$A$2:$A$90=G19))"),"")
A20: AVIO | B20: 38063 | C20: AVIO | D20: 0.08 | E20: MASOCORONA | F20: =VLOOKUP(E20,Foglio4!$A$2:$B$33,2,FALSE()) -> AC221E00013 | G20: =F20&"*" -> AC221E00013* | H20: =IFERROR(__xludf.DUMMYFUNCTION("+IFERROR(TEXTJOIN(char(10),TRUE(),FILTER(Foglio5!$B$2:$B$90,Foglio5!$A$2:$A$90=F20)),"""")"),"") | I20: =IFERROR(__xludf.DUMMYFUNCTION("TEXTJOIN(char(10),TRUE(),FILTER(Foglio5!$B$2:$B$90,Foglio5!$A$2:$A$90=G20))"),"")
A21: BASELGA DI PINE' | B21: 38042 | C21: BASELGA DI PINE' | D21: 0.68 | E21: BRAZZANIGA | F21: =VLOOKUP(E21,Foglio4!$A$2:$B$33,2,FALSE()) -> AC221E00021 | G21: =F21&"*" -> AC221E00021* | H21: =IFERROR(__xludf.DUMMYFUNCTION("+IFERROR(TEXTJOIN(char(10),TRUE(),FILTER(Foglio5!$B$2:$B$90,Foglio5!$A$2:$A$90=F21)),"""")"),"EYCO SOCIETÀ COOPERATIVA") -> EYCO SOCIETÀ COOPERATIVA | I21: =IFERROR(__xludf.DUMMYFUNCTION("TEXTJOIN(char(10),TRUE(),FILTER(Foglio5!$B$2:$B$90,Foglio5!$A$2:$A$90=G21))"),"CIVE C'è COM.EN.PINE'") -> CIVE C'è COM.EN.PINE'
A22: BASELGA DI PINE' | B22: 38042 | C22: BASELGA DI PINE' | D22: 0.03 | E22: LAVIS | F22: =VLOOKUP(E22,Foglio4!$A$2:$B$33,2,FALSE()) -> AC221E00018 | G22: =F22&"*" -> AC221E00018* | H22: =IFERROR(__xludf.DUMMYFUNCTION("+IFERROR(TEXTJOIN(char(10),TRUE(),FILTER(Foglio5!$B$2:$B$90,Foglio5!$A$2:$A$90=F22)),"""")"),"CER ZARGA FONDAZIONE SOLERGIA") -> CER ZARGA FONDAZIONE SOLERGIA | I22: =IFERROR(__xludf.DUMMYFUNCTION("TEXTJOIN(char(10),TRUE(),FILTER(Foglio5!$B$2:$B$90,Foglio5!$A$2:$A$90=G22))"),"CER CAR CER DEL SARCA KONCERT") -> CER CAR CER DEL SARCA KONCERT
A23: BASELGA DI PINE' | B23: 38042 | C23: BASELGA DI PINE' | D23: 0.08 | E23: P.S. GIORGIO | F23: =VLOOKUP(E23,Foglio4!$A$2:$B$33,2,FALSE()) -> AC221E00019 | G23: =F23&"*" -> AC221E00019* | H23: =IFERROR(__xludf.DUMMYFUNCTION("+IFERROR(TEXTJOIN(char(10),TRUE(),FILTER(Foglio5!$B$2:$B$90,Foglio5!$A$2:$A$90=F23)),"""")"),"CER CAR") -> CER CAR | I23: =IFERROR(__xludf.DUMMYFUNCTION("TEXTJOIN(char(10),TRUE(),FILTER(Foglio5!$B$2:$B$90,Foglio5!$A$2:$A$90=G23))"),"KONCERT TECER") -> KONCERT TECER
A24: BASELGA DI PINE' | B24: 38042 | C24: BASELGA DI PINE' | D24: 0.21 | E24: S.MICHELE | F24: =VLOOKUP(E24,Foglio4!$A$2:$B$33,2,FALSE()) -> AC221E00016 | G24: =F24&"*" -> AC221E00016* | H24: =IFERROR(__xludf.DUMMYFUNCTION("+IFERROR(TEXTJOIN(char(10),TRUE(),FILTER(Foglio5!$B$2:$B$90,Foglio5!$A$2:$A$90=F24)),"""")"),"KONCERT") -> KONCERT | I24: =IFERROR(__xludf.DUMMYFUNCTION("TEXTJOIN(char(10),TRUE(),FILTER(Foglio5!$B$2:$B$90,Foglio5!$A$2:$A$90=G24))"),"")
A25: BEDOLLO | B25: 38043 | C25: BEDOLLO | D25: 0.32 | E25: BRAZZANIGA | F25: =VLOOKUP(E25,Foglio4!$A$2:$B$33,2,FALSE()) -> AC221E00021 | G25: =F25&"*" -> AC221E00021* | H25: =IFERROR(__xludf.DUMMYFUNCTION("+IFERROR(TEXTJOIN(char(10),TRUE(),FILTER(Foglio5!$B$2:$B$90,Foglio5!$A$2:$A$90=F25)),"""")"),"EYCO SOCIETÀ COOPERATIVA") -> EYCO SOCIETÀ COOPERATIVA | I25: =IFERROR(__xludf.DUMMYFUNCTION("TEXTJOIN(char(10),TRUE(),FILTER(Foglio5!$B$2:$B$90,Foglio5!$A$2:$A$90=G25))"),"CIVE C'è COM.EN.PINE'") -> CIVE C'è COM.EN.PINE'
A26: BEDOLLO | B26: 38043 | C26: BEDOLLO | D26: 0.21 | E26: S.MICHELE | F26: =VLOOKUP(E26,Foglio4!$A$2:$B$33,2,FALSE()) -> AC221E00016 | G26: =F26&"*" -> AC221E00016* | H26: =IFERROR(__xludf.DUMMYFUNCTION("+IFERROR(TEXTJOIN(char(10),TRUE(),FILTER(Foglio5!$B$2:$B$90,Foglio5!$A$2:$A$90=F26)),"""")"),"KONCERT") -> KONCERT | I26: =IFERROR(__xludf.DUMMYFUNCTION("TEXTJOIN(char(10),TRUE(),FILTER(Foglio5!$B$2:$B$90,Foglio5!$A$2:$A$90=G26))"),"")
A27: BEDOLLO | B27: 38043 | C27: BEDOLLO | D27: 0.47 | E27: VARENA | F27: =VLOOKUP(E27,Foglio4!$A$2:$B$33,2,FALSE()) -> AC221E00022 | G27: =F27&"*" -> AC221E00022* | H27: =IFERROR(__xludf.DUMMYFUNCTION("+IFERROR(TEXTJOIN(char(10),TRUE(),FILTER(Foglio5!$B$2:$B$90,Foglio5!$A$2:$A$90=F27)),"""")"),"EYCO SOCIETÀ COOPERATIVA") -> EYCO SOCIETÀ COOPERATIVA | I27: =IFERROR(__xludf.DUMMYFUNCTION("TEXTJOIN(char(10),TRUE(),FILTER(Foglio5!$B$2:$B$90,Foglio5!$A$2:$A$90=G27))"),"CER CEMBRA CER FIEMME") -> CER CEMBRA CER FIEMME
A28: BESENELLO | B28: 38060 | C28: BESENELLO | D28: 0.96 | E28: ROVERETO NORD | F28: =VLOOKUP(E28,Foglio4!$A$2:$B$33,2,FALSE()) -> AC221E00014 | G28: =F28&"*" -> AC221E00014* | H28: =IFERROR(__xludf.DUMMYFUNCTION("+IFERROR(TEXTJOIN(char(10),TRUE(),FILTER(Foglio5!$B$2:$B$90,Foglio5!$A$2:$A$90=F28)),"""")"),"EYCO SOCIETÀ COOPERATIVA GREENLAND") -> EYCO SOCIETÀ COOPERATIVA GREENLAND | I28: =IFERROR(__xludf.DUMMYFUNCTION("TEXTJOIN(char(10),TRUE(),FILTER(Foglio5!$B$2:$B$90,Foglio5!$A$2:$A$90=G28))"),"CER SOLIDALE TRENTINA CER VALLAGARINA") -> CER SOLIDALE TRENTINA CER VALLAGARINA
A29: BESENELLO | B29: 38060 | C29: BESENELLO | D29: 0.04 | E29: TN SUD | F29: =VLOOKUP(E29,Foglio4!$A$2:$B$33,2,FALSE()) -> AC221E00015 | G29: =F29&"*" -> AC221E00015* | H29: =IFERROR(__xludf.DUMMYFUNCTION("+IFERROR(TEXTJOIN(char(10),TRUE(),FILTER(Foglio5!$B$2:$B$90,Foglio5!$A$2:$A$90=F29)),"""")"),"") | I29: =IFERROR(__xludf.DUMMYFUNCTION("TEXTJOIN(char(10),TRUE(),FILTER(Foglio5!$B$2:$B$90,Foglio5!$A$2:$A$90=G29))"),"CER CAR") -> CER CAR
A30: BIENO | B30: 38050 | C30: BIENO | D30: 1 | E30: SCURELLE | F30: =VLOOKUP(E30,Foglio4!$A$2:$B$33,2,FALSE()) -> AC221E00024 | G30: =F30&"*" -> AC221E00024* | H30: =IFERROR(__xludf.DUMMYFUNCTION("+IFERROR(TEXTJOIN(char(10),TRUE(),FILTER(Foglio5!$B$2:$B$90,Foglio5!$A$2:$A$90=F30)),"""")"),"CER.TO - CER TRENTINO ORIENTALE") -> CER.TO - CER TRENTINO ORIENTALE | I30: =IFERROR(__xludf.DUMMYFUNCTION("TEXTJOIN(char(10),TRUE(),FILTER(Foglio5!$B$2:$B$90,Foglio5!$A$2:$A$90=G30))"),"CERVALS") -> CERVALS
A31: BOCENAGO | B31: 38080 | C31: BOCENAGO | D31: 1 | E31: GIUSTINO | F31: =VLOOKUP(E31,Foglio4!$A$2:$B$33,2,FALSE()) -> AC221E00003 | G31: =F31&"*" -> AC221E00003* | H31: =IFERROR(__xludf.DUMMYFUNCTION("+IFERROR(TEXTJOIN(char(10),TRUE(),FILTER(Foglio5!$B$2:$B$90,Foglio5!$A$2:$A$90=F31)),"""")"),"") | I31: =IFERROR(__xludf.DUMMYFUNCTION("TEXTJOIN(char(10),TRUE(),FILTER(Foglio5!$B$2:$B$90,Foglio5!$A$2:$A$90=G31))"),"CER DEL SARCA") -> CER DEL SARCA
A32: BORGO CHIESE | B32: 38083 | C32: BRIONE | D32: 1 | E32: CIMEGO | F32: =VLOOKUP(E32,Foglio4!$A$2:$B$33,2,FALSE()) -> AC221E00001 | G32: =F32&"*" -> AC221E00001* | H32: =IFERROR(__xludf.DUMMYFUNCTION("+IFERROR(TEXTJOIN(char(10),TRUE(),FILTER(Foglio5!$B$2:$B$90,Foglio5!$A$2:$A$90=F32)),"""")"),"") | I32: =IFERROR(__xludf.DUMMYFUNCTION("TEXTJOIN(char(10),TRUE(),FILTER(Foglio5!$B$2:$B$90,Foglio5!$A$2:$A$90=G32))"),"")
A33: BORGO CHIESE | B33: 38083 | C33: CIMEGO | D33: 1 | E33: CIMEGO | F33: =VLOOKUP(E33,Foglio4!$A$2:$B$33,2,FALSE()) -> AC221E00001 | G33: =F33&"*" -> AC221E00001* | H33: =IFERROR(__xludf.DUMMYFUNCTION("+IFERROR(TEXTJOIN(char(10),TRUE(),FILTER(Foglio5!$B$2:$B$90,Foglio5!$A$2:$A$90=F33)),"""")"),"") | I33: =IFERROR(__xludf.DUMMYFUNCTION("TEXTJOIN(char(10),TRUE(),FILTER(Foglio5!$B$2:$B$90,Foglio5!$A$2:$A$90=G33))"),"")
A34: BORGO CHIESE | B34: 38083 | C34: CONDINO | D34: 1 | E34: STORO | F34: =VLOOKUP(E34,Foglio4!$A$2:$B$33,2,FALSE()) -> AC221E00002 | G34: =F34&"*" -> AC221E00002* | H34: =IFERROR(__xludf.DUMMYFUNCTION("+IFERROR(TEXTJOIN(char(10),TRUE(),FILTER(Foglio5!$B$2:$B$90,Foglio5!$A$2:$A$90=F34)),"""")"),"LA BUONA FONTE") -> LA BUONA FONTE | I34: =IFERROR(__xludf.DUMMYFUNCTION("TEXTJOIN(char(10),TRUE(),FILTER(Foglio5!$B$2:$B$90,Foglio5!$A$2:$A$90=G34))"),"CER DEL SARCA") -> CER DEL SARCA
A35: BORGO D'ANAUNIA | B35: 38013 | C35: CASTELFONDO | D35: 1 | E35: TASSULLO | F35: =VLOOKUP(E35,Foglio4!$A$2:$B$33,2,FALSE()) -> AC221E00010 | G35: =F35&"*" -> AC221E00010* | H35: =IFERROR(__xludf.DUMMYFUNCTION("+IFERROR(TEXTJOIN(char(10),TRUE(),FILTER(Foglio5!$B$2:$B$90,Foglio5!$A$2:$A$90=F35)),"""")"),"EYCO SOCIETÀ COOPERATIVA NOS ENERGIA") -> EYCO SOCIETÀ COOPERATIVA NOS ENERGIA | I35: =IFERROR(__xludf.DUMMYFUNCTION("TEXTJOIN(char(10),TRUE(),FILTER(Foglio5!$B$2:$B$90,Foglio5!$A$2:$A$90=G35))"),"")
A36: BORGO D'ANAUNIA | B36: 38013 | C36: FONDO | D36: 1 | E36: TASSULLO | F36: =VLOOKUP(E36,Foglio4!$A$2:$B$33,2,FALSE()) -> AC221E00010 | G36: =F36&"*" -> AC221E00010* | H36: =IFERROR(__xludf.DUMMYFUNCTION("+IFERROR(TEXTJOIN(char(10),TRUE(),FILTER(Foglio5!$B$2:$B$90,Foglio5!$A$2:$A$90=F36)),"""")"),"EYCO SOCIETÀ COOPERATIVA NOS ENERGIA") -> EYCO SOCIETÀ COOPERATIVA NOS ENERGIA | I36: =IFERROR(__xludf.DUMMYFUNCTION("TEXTJOIN(char(10),TRUE(),FILTER(Foglio5!$B$2:$B$90,Foglio5!$A$2:$A$90=G36))"),"")
A37: BORGO D'ANAUNIA | B37: 38013 | C37: MALOSCO | D37: 1 | E37: TASSULLO | F37: =VLOOKUP(E37,Foglio4!$A$2:$B$33,2,FALSE()) -> AC221E00010 | G37: =F37&"*" -> AC221E00010* | H37: =IFERROR(__xludf.DUMMYFUNCTION("+IFERROR(TEXTJOIN(char(10),TRUE(),FILTER(Foglio5!$B$2:$B$90,Foglio5!$A$2:$A$90=F37)),"""")"),"EYCO SOCIETÀ COOPERATIVA NOS ENERGIA") -> EYCO SOCIETÀ COOPERATIVA NOS ENERGIA | I37: =IFERROR(__xludf.DUMMYFUNCTION("TEXTJOIN(char(10),TRUE(),FILTER(Foglio5!$B$2:$B$90,Foglio5!$A$2:$A$90=G37))"),"")
A38: BORGO LARES | B38: 38079 | C38: BOLBENO | D38: 1 | E38: LA ROCCA | F38: =VLOOKUP(E38,Foglio4!$A$2:$B$33,2,FALSE()) -> AC221E00000 | G38: =F38&"*" -> AC221E00000* | H38: =IFERROR(__xludf.DUMMYFUNCTION("+IFERROR(TEXTJOIN(char(10),TRUE(),FILTER(Foglio5!$B$2:$B$90,Foglio5!$A$2:$A$90=F38)),"""")"),"CER DEL SARCA") -> CER DEL SARCA | I38: =IFERROR(__xludf.DUMMYFUNCTION("TEXTJOIN(char(10),TRUE(),FILTER(Foglio5!$B$2:$B$90,Foglio5!$A$2:$A$90=G38))"),"")
A39: BORGO VALSUGANA | B39: 38051 | C39: BORGO VALSUGANA | D39: 0.44 | E39: BORGO V | F39: =VLOOKUP(E39,Foglio4!$A$2:$B$33,2,FALSE()) -> AC221E00023 | G39: =F39&"*" -> AC221E00023* | H39: =IFERROR(__xludf.DUMMYFUNCTION("+IFERROR(TEXTJOIN(char(10),TRUE(),FILTER(Foglio5!$B$2:$B$90,Foglio5!$A$2:$A$90=F39)),"""")"),"CER.TO - CER TRENTINO ORIENTALE EYCO SOCIETÀ COOPERATIVA") -> CER.TO - CER TRENTINO ORIENTALE EYCO SOCIETÀ COOPERATIVA | I39: =IFERROR(__xludf.DUMMYFUNCTION("TEXTJOIN(char(10),TRUE(),FILTER(Foglio5!$B$2:$B$90,Foglio5!$A$2:$A$90=G39))"),"")
A40: BORGO VALSUGANA | B40: 38051 | C40: BORGO VALSUGANA | D40: 0.56 | E40: SCURELLE | F40: =VLOOKUP(E40,Foglio4!$A$2:$B$33,2,FALSE()) -> AC221E00024 | G40: =F40&"*" -> AC221E00024* | H40: =IFERROR(__xludf.DUMMYFUNCTION("+IFERROR(TEXTJOIN(char(10),TRUE(),FILTER(Foglio5!$B$2:$B$90,Foglio5!$A$2:$A$90=F40)),"""")"),"CER.TO - CER TRENTINO ORIENTALE") -> CER.TO - CER TRENTINO ORIENTALE | I40: =IFERROR(__xludf.DUMMYFUNCTION("TEXTJOIN(char(10),TRUE(),FILTER(Foglio5!$B$2:$B$90,Foglio5!$A$2:$A$90=G40))"),"CERVALS") -> CERVALS
A41: BRENTONICO | B41: 38060 | C41: BRENTONICO | D41: 0.59 | E41: ARCO | F41: =VLOOKUP(E41,Foglio4!$A$2:$B$33,2,FALSE()) -> AC221E00005 | G41: =F41&"*" -> AC221E00005* | H41: =IFERROR(__xludf.DUMMYFUNCTION("+IFERROR(TEXTJOIN(char(10),TRUE(),FILTER(Foglio5!$B$2:$B$90,Foglio5!$A$2:$A$90=F41)),"""")"),"EYCO SOCIETÀ COOPERATIVA") -> EYCO SOCIETÀ COOPERATIVA | I41: =IFERROR(__xludf.DUMMYFUNCTION("TEXTJOIN(char(10),TRUE(),FILTER(Foglio5!$B$2:$B$90,Foglio5!$A$2:$A$90=G41))"),"CER DEL SARCA") -> CER DEL SARCA
A42: BRENTONICO | B42: 38060 | C42: BRENTONICO | D42: 0.41 | E42: AVIO | F42: =VLOOKUP(E42,Foglio4!$A$2:$B$33,2,FALSE()) -> AC221E00011 | G42: =F42&"*" -> AC221E00011* | H42: =IFERROR(__xludf.DUMMYFUNCTION("+IFERROR(TEXTJOIN(char(10),TRUE(),FILTER(Foglio5!$B$2:$B$90,Foglio5!$A$2:$A$90=F42)),"""")"),"") | I42: =IFERROR(__xludf.DUMMYFUNCTION("TEXTJOIN(char(10),TRUE(),FILTER(Foglio5!$B$2:$B$90,Foglio5!$A$2:$A$90=G42))"),"")
A43: BRESIMO | B43: 38020 | C43: BRESIMO | D43: 1 | E43: MONCLASSICO | F43: =VLOOKUP(E43,Foglio4!$A$2:$B$33,2,FALSE()) -> AC221E00006 | G43: =F43&"*" -> AC221E00006* | H43: =IFERROR(__xludf.DUMMYFUNCTION("+IFERROR(TEXTJOIN(char(10),TRUE(),FILTER(Foglio5!$B$2:$B$90,Foglio5!$A$2:$A$90=F43)),"""")"),"") | I43: =IFERROR(__xludf.DUMMYFUNCTION("TEXTJOIN(char(10),TRUE(),FILTER(Foglio5!$B$2:$B$90,Foglio5!$A$2:$A$90=G43))"),"")
A44: CADERZONE TERME | B44: 38080 | C44: CADERZONE | D44: 1 | E44: GIUSTINO | F44: =VLOOKUP(E44,Foglio4!$A$2:$B$33,2,FALSE()) -> AC221E00003 | G44: =F44&"*" -> AC221E00003* | H44: =IFERROR(__xludf.DUMMYFUNCTION("+IFERROR(TEXTJOIN(char(10),TRUE(),FILTER(Foglio5!$B$2:$B$90,Foglio5!$A$2:$A$90=F44)),"""")"),"") | I44: =IFERROR(__xludf.DUMMYFUNCTION("TEXTJOIN(char(10),TRUE(),FILTER(Foglio5!$B$2:$B$90,Foglio5!$A$2:$A$90=G44))"),"CER DEL SARCA") -> CER DEL SARCA
A45: CALCERANICA AL LAGO | B45: 38050 | C45: CALCERANICA | D45: 1 | E45: CALDONAZZO | F45: =VLOOKUP(E45,Foglio4!$A$2:$B$33,2,FALSE()) -> AC221E00020 | G45: =F45&"*" -> AC221E00020* | H45: =IFERROR(__xludf.DUMMYFUNCTION("+IFERROR(TEXTJOIN(char(10),TRUE(),FILTER(Foglio5!$B$2:$B$90,Foglio5!$A$2:$A$90=F45)),"""")"),"GREENLAND") -> GREENLAND | I45: =IFERROR(__xludf.DUMMYFUNCTION("TEXTJOIN(char(10),TRUE(),FILTER(Foglio5!$B$2:$B$90,Foglio5!$A$2:$A$90=G45))"),"CER TENNA") -> CER TENNA
A46: CALDES | B46: 38022 | C46: CALDES | D46: 1 | E46: MONCLASSICO | F46: =VLOOKUP(E46,Foglio4!$A$2:$B$33,2,FALSE()) -> AC221E00006 | G46: =F46&"*" -> AC221E00006* | H46: =IFERROR(__xludf.DUMMYFUNCTION("+IFERROR(TEXTJOIN(char(10),TRUE(),FILTER(Foglio5!$B$2:$B$90,Foglio5!$A$2:$A$90=F46)),"""")"),"") | I46: =IFERROR(__xludf.DUMMYFUNCTION("TEXTJOIN(char(10),TRUE(),FILTER(Foglio5!$B$2:$B$90,Foglio5!$A$2:$A$90=G46))"),"")
A47: CALDONAZZO | B47: 38052 | C47: CALDONAZZO | D47: 1 | E47: CALDONAZZO | F47: =VLOOKUP(E47,Foglio4!$A$2:$B$33,2,FALSE()) -> AC221E00020 | G47: =F47&"*" -> AC221E00020* | H47: =IFERROR(__xludf.DUMMYFUNCTION("+IFERROR(TEXTJOIN(char(10),TRUE(),FILTER(Foglio5!$B$2:$B$90,Foglio5!$A$2:$A$90=F47)),"""")"),"GREENLAND") -> GREENLAND | I47: =IFERROR(__xludf.DUMMYFUNCTION("TEXTJOIN(char(10),TRUE(),FILTER(Foglio5!$B$2:$B$90,Foglio5!$A$2:$A$90=G47))"),"CER TENNA") -> CER TENNA
A48: CALLIANO | B48: 38060 | C48: CALLIANO | D48: 0.93 | E48: ROVERETO NORD | F48: =VLOOKUP(E48,Foglio4!$A$2:$B$33,2,FALSE()) -> AC221E00014 | G48: =F48&"*" -> AC221E00014* | H48: =IFERROR(__xludf.DUMMYFUNCTION("+IFERROR(TEXTJOIN(char(10),TRUE(),FILTER(Foglio5!$B$2:$B$90,Foglio5!$A$2:$A$90=F48)),"""")"),"EYCO SOCIETÀ COOPERATIVA GREENLAND") -> EYCO SOCIETÀ COOPERATIVA GREENLAND | I48: =IFERROR(__xludf.DUMMYFUNCTION("TEXTJOIN(char(10),TRUE(),FILTER(Foglio5!$B$2:$B$90,Foglio5!$A$2:$A$90=G48))"),"CER SOLIDALE TRENTINA CER VALLAGARINA") -> CER SOLIDALE TRENTINA CER VALLAGARINA
A49: CALLIANO | B49: 38060 | C49: CALLIANO | D49: 0.07 | E49: S.COLOMBANO | F49: =VLOOKUP(E49,Foglio4!$A$2:$B$33,2,FALSE()) -> AC221E00017 | G49: =F49&"*" -> AC221E00017* | H49: =IFERROR(__xludf.DUMMYFUNCTION("+IFERROR(TEXTJOIN(char(10),TRUE(),FILTER(Foglio5!$B$2:$B$90,Foglio5!$A$2:$A$90=F49)),"""")"),"GREENLAND") -> GREENLAND | I49: =IFERROR(__xludf.DUMMYFUNCTION("TEXTJOIN(char(10),TRUE(),FILTER(Foglio5!$B$2:$B$90,Foglio5!$A$2:$A$90=G49))"),"CER SOLIDALE TRENTINA ENERGIA NUOVA VALLARSA") -> CER SOLIDALE TRENTINA ENERGIA NUOVA VALLARSA
A50: CAMPITELLO DI FASSA | B50: 38031 | C50: CAMPITELLO | D50: 1 | E50: CAMPITELLO | F50: =VLOOKUP(E50,Foglio4!$A$2:$B$33,2,FALSE()) -> AC221E00028 | G50: =F50&"*" -> AC221E00028* | H50: =IFERROR(__xludf.DUMMYFUNCTION("+IFERROR(TEXTJOIN(char(10),TRUE(),FILTER(Foglio5!$B$2:$B$90,Foglio5!$A$2:$A$90=F50)),"""")"),"") | I50: =IFERROR(__xludf.DUMMYFUNCTION("TEXTJOIN(char(10),TRUE(),FILTER(Foglio5!$B$2:$B$90,Foglio5!$A$2:$A$90=G50))"),"")
A51: CAMPODENNO | B51: 38010 | C51: CAMPODENNO | D51: 1 | E51: S.MICHELE | F51: =VLOOKUP(E51,Foglio4!$A$2:$B$33,2,FALSE()) -> AC221E00016 | G51: =F51&"*" -> AC221E00016* | H51: =IFERROR(__xludf.DUMMYFUNCTION("+IFERROR(TEXTJOIN(char(10),TRUE(),FILTER(Foglio5!$B$2:$B$90,Foglio5!$A$2:$A$90=F51)),"""")"),"KONCERT") -> KONCERT | I51: =IFERROR(__xludf.DUMMYFUNCTION("TEXTJOIN(char(10),TRUE(),FILTER(Foglio5!$B$2:$B$90,Foglio5!$A$2:$A$90=G51))"),"")
A52: CANAZEI | B52: 38032 | C52: CANAZEI | D52: 1 | E52: CAMPITELLO | F52: =VLOOKUP(E52,Foglio4!$A$2:$B$33,2,FALSE()) -> AC221E00028 | G52: =F52&"*" -> AC221E00028* | H52: =IFERROR(__xludf.DUMMYFUNCTION("+IFERROR(TEXTJOIN(char(10),TRUE(),FILTER(Foglio5!$B$2:$B$90,Foglio5!$A$2:$A$90=F52)),"""")"),"") | I52: =IFERROR(__xludf.DUMMYFUNCTION("TEXTJOIN(char(10),TRUE(),FILTER(Foglio5!$B$2:$B$90,Foglio5!$A$2:$A$90=G52))"),"")
A53: CAPRIANA | B53: 38030 | C53: CAPRIANA | D53: 1 | E53: VARENA | F53: =VLOOKUP(E53,Foglio4!$A$2:$B$33,2,FALSE()) -> AC221E00022 | G53: =F53&"*" -> AC221E00022* | H53: =IFERROR(__xludf.DUMMYFUNCTION("+IFERROR(TEXTJOIN(char(10),TRUE(),FILTER(Foglio5!$B$2:$B$90,Foglio5!$A$2:$A$90=F53)),"""")"),"EYCO SOCIETÀ COOPERATIVA") -> EYCO SOCIETÀ COOPERATIVA | I53: =IFERROR(__xludf.DUMMYFUNCTION("TEXTJOIN(char(10),TRUE(),FILTER(Foglio5!$B$2:$B$90,Foglio5!$A$2:$A$90=G53))"),"CER CEMBRA CER FIEMME") -> CER CEMBRA CER FIEMME
A54: CARISOLO | B54: 38080 | C54: CARISOLO | D54: 1 | E54: GIUSTINO | F54: =VLOOKUP(E54,Foglio4!$A$2:$B$33,2,FALSE()) -> AC221E00003 | G54: =F54&"*" -> AC221E00003* | H54: =IFERROR(__xludf.DUMMYFUNCTION("+IFERROR(TEXTJOIN(char(10),TRUE(),FILTER(Foglio5!$B$2:$B$90,Foglio5!$A$2:$A$90=F54)),"""")"),"") | I54: =IFERROR(__xludf.DUMMYFUNCTION("TEXTJOIN(char(10),TRUE(),FILTER(Foglio5!$B$2:$B$90,Foglio5!$A$2:$A$90=G54))"),"CER DEL SARCA") -> CER DEL SARCA
A55: CARZANO | B55: 38050 | C55: CARZANO | D55: 1 | E55: SCURELLE | F55: =VLOOKUP(E55,Foglio4!$A$2:$B$33,2,FALSE()) -> AC221E00024 | G55: =F55&"*" -> AC221E00024* | H55: =IFERROR(__xludf.DUMMYFUNCTION("+IFERROR(TEXTJOIN(char(10),TRUE(),FILTER(Foglio5!$B$2:$B$90,Foglio5!$A$2:$A$90=F55)),"""")"),"CER.TO - CER TRENTINO ORIENTALE") -> CER.TO - CER TRENTINO ORIENTALE | I55: =IFERROR(__xludf.DUMMYFUNCTION("TEXTJOIN(char(10),TRUE(),FILTER(Foglio5!$B$2:$B$90,Foglio5!$A$2:$A$90=G55))"),"CERVALS") -> CERVALS
A56: CASTEL CONDINO | B56: 38082 | C56: CASTEL CONDINO | D56: 1 | E56: CIMEGO | F56: =VLOOKUP(E56,Foglio4!$A$2:$B$33,2,FALSE()) -> AC221E00001 | G56: =F56&"*" -> AC221E00001* | H56: =IFERROR(__xludf.DUMMYFUNCTION("+IFERROR(TEXTJOIN(char(10),TRUE(),FILTER(Foglio5!$B$2:$B$90,Foglio5!$A$2:$A$90=F56)),"""")"),"") | I56: =IFERROR(__xludf.DUMMYFUNCTION("TEXTJOIN(char(10),TRUE(),FILTER(Foglio5!$B$2:$B$90,Foglio5!$A$2:$A$90=G56))"),"")
A57: CASTEL IVANO | B57: 38059 | C57: IVANO FRACENA | D57: 1 | E57: SCURELLE | F57: =VLOOKUP(E57,Foglio4!$A$2:$B$33,2,FALSE()) -> AC221E00024 | G57: =F57&"*" -> AC221E00024* | H57: =IFERROR(__xludf.DUMMYFUNCTION("+IFERROR(TEXTJOIN(char(10),TRUE(),FILTER(Foglio5!$B$2:$B$90,Foglio5!$A$2:$A$90=F57)),"""")"),"CER.TO - CER TRENTINO ORIENTALE") -> CER.TO - CER TRENTINO ORIENTALE | I57: =IFERROR(__xludf.DUMMYFUNCTION("TEXTJOIN(char(10),TRUE(),FILTER(Foglio5!$B$2:$B$90,Foglio5!$A$2:$A$90=G57))"),"CERVALS") -> CERVALS
A58: CASTEL IVANO | B58: 38059 | C58: SPERA | D58: 1 | E58: SCURELLE | F58: =VLOOKUP(E58,Foglio4!$A$2:$B$33,2,FALSE()) -> AC221E00024 | G58: =F58&"*" -> AC221E00024* | H58: =IFERROR(__xludf.DUMMYFUNCTION("+IFERROR(TEXTJOIN(char(10),TRUE(),FILTER(Foglio5!$B$2:$B$90,Foglio5!$A$2:$A$90=F58)),"""")"),"CER.TO - CER TRENTINO ORIENTALE") -> CER.TO - CER TRENTINO ORIENTALE | I58: =IFERROR(__xludf.DUMMYFUNCTION("TEXTJOIN(char(10),TRUE(),FILTER(Foglio5!$B$2:$B$90,Foglio5!$A$2:$A$90=G58))"),"CERVALS") -> CERVALS
A59: CASTEL IVANO | B59: 38059 | C59: STRIGNO | D59: 1 | E59: SCURELLE | F59: =VLOOKUP(E59,Foglio4!$A$2:$B$33,2,FALSE()) -> AC221E00024 | G59: =F59&"*" -> AC221E00024* | H59: =IFERROR(__xludf.DUMMYFUNCTION("+IFERROR(TEXTJOIN(char(10),TRUE(),FILTER(Foglio5!$B$2:$B$90,Foglio5!$A$2:$A$90=F59)),"""")"),"CER.TO - CER TRENTINO ORIENTALE") -> CER.TO - CER TRENTINO ORIENTALE | I59: =IFERROR(__xludf.DUMMYFUNCTION("TEXTJOIN(char(10),TRUE(),FILTER(Foglio5!$B$2:$B$90,Foglio5!$A$2:$A$90=G59))"),"CERVALS") -> CERVALS
A60: CASTEL IVANO | B60: 38059 | C60: VILLA AGNEDO | D60: 0.4 | E60: GRIGNO | F60: =VLOOKUP(E60,Foglio4!$A$2:$B$33,2,FALSE()) -> AC221E00027 | G60: =F60&"*" -> AC221E00027* | H60: =IFERROR(__xludf.DUMMYFUNCTION("+IFERROR(TEXTJOIN(char(10),TRUE(),FILTER(Foglio5!$B$2:$B$90,Foglio5!$A$2:$A$90=F60)),"""")"),"CER.TO - CER TRENTINO ORIENTALE") -> CER.TO - CER TRENTINO ORIENTALE | I60: =IFERROR(__xludf.DUMMYFUNCTION("TEXTJOIN(char(10),TRUE(),FILTER(Foglio5!$B$2:$B$90,Foglio5!$A$2:$A$90=G60))"),"")
A61: CASTEL IVANO | B61: 38059 | C61: VILLA AGNEDO | D61: 0.6 | E61: SCURELLE | F61: =VLOOKUP(E61,Foglio4!$A$2:$B$33,2,FALSE()) -> AC221E00024 | G61: =F61&"*" -> AC221E00024* | H61: =IFERROR(__xludf.DUMMYFUNCTION("+IFERROR(TEXTJOIN(char(10),TRUE(),FILTER(Foglio5!$B$2:$B$90,Foglio5!$A$2:$A$90=F61)),"""")"),"CER.TO - CER TRENTINO ORIENTALE") -> CER.TO - CER TRENTINO ORIENTALE | I61: =IFERROR(__xludf.DUMMYFUNCTION("TEXTJOIN(char(10),TRUE(),FILTER(Foglio5!$B$2:$B$90,Foglio5!$A$2:$A$90=G61))"),"CERVALS") -> CERVALS
A62: CASTELLO TESINO | B62: 38053 | C62: CASTELLO TESINO | D62: 1 | E62: GRIGNO | F62: =VLOOKUP(E62,Foglio4!$A$2:$B$33,2,FALSE()) -> AC221E00027 | G62: =F62&"*" -> AC221E00027* | H62: =IFERROR(__xludf.DUMMYFUNCTION("+IFERROR(TEXTJOIN(char(10),TRUE(),FILTER(Foglio5!$B$2:$B$90,Foglio5!$A$2:$A$90=F62)),"""")"),"CER.TO - CER TRENTINO ORIENTALE") -> CER.TO - CER TRENTINO ORIENTALE | I62: =IFERROR(__xludf.DUMMYFUNCTION("TEXTJOIN(char(10),TRUE(),FILTER(Foglio5!$B$2:$B$90,Foglio5!$A$2:$A$90=G62))"),"")
A63: CASTELLO-MOLINA DI FIEMME | B63: 38030 | C63: CASTELLO | D63: 1 | E63: VARENA | F63: =VLOOKUP(E63,Foglio4!$A$2:$B$33,2,FALSE()) -> AC221E00022 | G63: =F63&"*" -> AC221E00022* | H63: =IFERROR(__xludf.DUMMYFUNCTION("+IFERROR(TEXTJOIN(char(10),TRUE(),FILTER(Foglio5!$B$2:$B$90,Foglio5!$A$2:$A$90=F63)),"""")"),"EYCO SOCIETÀ COOPERATIVA") -> EYCO SOCIETÀ COOPERATIVA | I63: =IFERROR(__xludf.DUMMYFUNCTION("TEXTJOIN(char(10),TRUE(),FILTER(Foglio5!$B$2:$B$90,Foglio5!$A$2:$A$90=G63))"),"CER CEMBRA CER FIEMME") -> CER CEMBRA CER FIEMME
A64: CASTELNUOVO | B64: 38050 | C64: CASTELNUOVO | D64: 0.15 | E64: GRIGNO | F64: =VLOOKUP(E64,Foglio4!$A$2:$B$33,2,FALSE()) -> AC221E00027 | G64: =F64&"*" -> AC221E00027* | H64: =IFERROR(__xludf.DUMMYFUNCTION("+IFERROR(TEXTJOIN(char(10),TRUE(),FILTER(Foglio5!$B$2:$B$90,Foglio5!$A$2:$A$90=F64)),"""")"),"CER.TO - CER TRENTINO ORIENTALE") -> CER.TO - CER TRENTINO ORIENTALE | I64: =IFERROR(__xludf.DUMMYFUNCTION("TEXTJOIN(char(10),TRUE(),FILTER(Foglio5!$B$2:$B$90,Foglio5!$A$2:$A$90=G64))"),"")
A65: CASTELNUOVO | B65: 38050 | C65: CASTELNUOVO | D65: 0.85 | E65: SCURELLE | F65: =VLOOKUP(E65,Foglio4!$A$2:$B$33,2,FALSE()) -> AC221E00024 | G65: =F65&"*" -> AC221E00024* | H65: =IFERROR(__xludf.DUMMYFUNCTION("+IFERROR(TEXTJOIN(char(10),TRUE(),FILTER(Foglio5!$B$2:$B$90,Foglio5!$A$2:$A$90=F65)),"""")"),"CER.TO - CER TRENTINO ORIENTALE") -> CER.TO - CER TRENTINO ORIENTALE | I65: =IFERROR(__xludf.DUMMYFUNCTION("TEXTJOIN(char(10),TRUE(),FILTER(Foglio5!$B$2:$B$90,Foglio5!$A$2:$A$90=G65))"),"CERVALS") -> CERVALS
A66: CAVALESE | B66: 38033 | C66: CAVALESE | D66: 1 | E66: VARENA | F66: =VLOOKUP(E66,Foglio4!$A$2:$B$33,2,FALSE()) -> AC221E00022 | G66: =F66&"*" -> AC221E00022* | H66: =IFERROR(__xludf.DUMMYFUNCTION("+IFERROR(TEXTJOIN(char(10),TRUE(),FILTER(Foglio5!$B$2:$B$90,Foglio5!$A$2:$A$90=F66)),"""")"),"EYCO SOCIETÀ COOPERATIVA") -> EYCO SOCIETÀ COOPERATIVA | I66: =IFERROR(__xludf.DUMMYFUNCTION("TEXTJOIN(char(10),TRUE(),FILTER(Foglio5!$B$2:$B$90,Foglio5!$A$2:$A$90=G66))"),"CER CEMBRA CER FIEMME") -> CER CEMBRA CER FIEMME
A67: CAVARENO | B67: 38011 | C67: CAVARENO | D67: 1 | E67: TASSULLO | F67: =VLOOKUP(E67,Foglio4!$A$2:$B$33,2,FALSE()) -> AC221E00010 | G67: =F67&"*" -> AC221E00010* | H67: =IFERROR(__xludf.DUMMYFUNCTION("+IFERROR(TEXTJOIN(char(10),TRUE(),FILTER(Foglio5!$B$2:$B$90,Foglio5!$A$2:$A$90=F67)),"""")"),"EYCO SOCIETÀ COOPERATIVA NOS ENERGIA") -> EYCO SOCIETÀ COOPERATIVA NOS ENERGIA | I67: =IFERROR(__xludf.DUMMYFUNCTION("TEXTJOIN(char(10),TRUE(),FILTER(Foglio5!$B$2:$B$90,Foglio5!$A$2:$A$90=G67))"),"")
A68: CAVEDAGO | B68: 38010 | C68: CAVEDAGO | D68: 0.1 | E68: NEMBIA | F68: =VLOOKUP(E68,Foglio4!$A$2:$B$33,2,FALSE()) -> AC221E00007 | G68: =F68&"*" -> AC221E00007* | H68: =IFERROR(__xludf.DUMMYFUNCTION("+IFERROR(TEXTJOIN(char(10),TRUE(),FILTER(Foglio5!$B$2:$B$90,Foglio5!$A$2:$A$90=F68)),"""")"),"EUREKA CER") -> EUREKA CER | I68: =IFERROR(__xludf.DUMMYFUNCTION("TEXTJOIN(char(10),TRUE(),FILTER(Foglio5!$B$2:$B$90,Foglio5!$A$2:$A$90=G68))"),"CER DEL SARCA") -> CER DEL SARCA
A69: CAVEDAGO | B69: 38010 | C69: CAVEDAGO | D69: 0.9 | E69: S.MICHELE | F69: =VLOOKUP(E69,Foglio4!$A$2:$B$33,2,FALSE()) -> AC221E00016 | G69: =F69&"*" -> AC221E00016* | H69: =IFERROR(__xludf.DUMMYFUNCTION("+IFERROR(TEXTJOIN(char(10),TRUE(),FILTER(Foglio5!$B$2:$B$90,Foglio5!$A$2:$A$90=F69)),"""")"),"KONCERT") -> KONCERT | I69: =IFERROR(__xludf.DUMMYFUNCTION("TEXTJOIN(char(10),TRUE(),FILTER(Foglio5!$B$2:$B$90,Foglio5!$A$2:$A$90=G69))"),"")
A70: CAVEDINE | B70: 38073 | C70: CAVEDINE | D70: 1 | E70: DRO | F70: =VLOOKUP(E70,Foglio4!$A$2:$B$33,2,FALSE()) -> AC221E00008 | G70: =F70&"*" -> AC221E00008* | H70: =IFERROR(__xludf.DUMMYFUNCTION("+IFERROR(TEXTJOIN(char(10),TRUE(),FILTER(Foglio5!$B$2:$B$90,Foglio5!$A$2:$A$90=F70)),"""")"),"") | I70: =IFERROR(__xludf.DUMMYFUNCTION("TEXTJOIN(char(10),TRUE(),FILTER(Foglio5!$B$2:$B$90,Foglio5!$A$2:$A$90=G70))"),"CER DEL SARCA") -> CER DEL SARCA
A71: CAVIZZANA | B71: 38022 | C71: CAVIZZANA | D71: 1 | E71: MONCLASSICO | F71: =VLOOKUP(E71,Foglio4!$A$2:$B$33,2,FALSE()) -> AC221E00006 | G71: =F71&"*" -> AC221E00006* | H71: =IFERROR(__xludf.DUMMYFUNCTION("+IFERROR(TEXTJOIN(char(10),TRUE(),FILTER(Foglio5!$B$2:$B$90,Foglio5!$A$2:$A$90=F71)),"""")"),"") | I71: =IFERROR(__xludf.DUMMYFUNCTION("TEXTJOIN(char(10),TRUE(),FILTER(Foglio5!$B$2:$B$90,Foglio5!$A$2:$A$90=G71))"),"")
A72: CEMBRA LISIGNAGO | B72: 38034 | C72: CEMBRA | D72: 1 | E72: S.MICHELE | F72: =VLOOKUP(E72,Foglio4!$A$2:$B$33,2,FALSE()) -> AC221E00016 | G72: =F72&"*" -> AC221E00016* | H72: =IFERROR(__xludf.DUMMYFUNCTION("+IFERROR(TEXTJOIN(char(10),TRUE(),FILTER(Foglio5!$B$2:$B$90,Foglio5!$A$2:$A$90=F72)),"""")"),"KONCERT") -> KONCERT | I72: =IFERROR(__xludf.DUMMYFUNCTION("TEXTJOIN(char(10),TRUE(),FILTER(Foglio5!$B$2:$B$90,Foglio5!$A$2:$A$90=G72))"),"")
A73: CEMBRA LISIGNAGO | B73: 38034 | C73: LISIGNAGO | D73: 1 | E73: S.MICHELE | F73: =VLOOKUP(E73,Foglio4!$A$2:$B$33,2,FALSE()) -> AC221E00016 | G73: =F73&"*" -> AC221E00016* | H73: =IFERROR(__xludf.DUMMYFUNCTION("+IFERROR(TEXTJOIN(char(10),TRUE(),FILTER(Foglio5!$B$2:$B$90,Foglio5!$A$2:$A$90=F73)),"""")"),"KONCERT") -> KONCERT | I73: =IFERROR(__xludf.DUMMYFUNCTION("TEXTJOIN(char(10),TRUE(),FILTER(Foglio5!$B$2:$B$90,Foglio5!$A$2:$A$90=G73))"),"")
A74: CIMONE | B74: 38060 | C74: CIMONE | D74: 1 | E74: TN SUD | F74: =VLOOKUP(E74,Foglio4!$A$2:$B$33,2,FALSE()) -> AC221E00015 | G74: =F74&"*" -> AC221E00015* | H74: =IFERROR(__xludf.DUMMYFUNCTION("+IFERROR(TEXTJOIN(char(10),TRUE(),FILTER(Foglio5!$B$2:$B$90,Foglio5!$A$2:$A$90=F74)),"""")"),"") | I74: =IFERROR(__xludf.DUMMYFUNCTION("TEXTJOIN(char(10),TRUE(),FILTER(Foglio5!$B$2:$B$90,Foglio5!$A$2:$A$90=G74))"),"CER CAR") -> CER CAR
A75: CINTE TESINO | B75: 38050 | C75: CINTE TESINO | D75: 1 | E75: GRIGNO | F75: =VLOOKUP(E75,Foglio4!$A$2:$B$33,2,FALSE()) -> AC221E00027 | G75: =F75&"*" -> AC221E00027* | H75: =IFERROR(__xludf.DUMMYFUNCTION("+IFERROR(TEXTJOIN(char(10),TRUE(),FILTER(Foglio5!$B$2:$B$90,Foglio5!$A$2:$A$90=F75)),"""")"),"CER.TO - CER TRENTINO ORIENTALE") -> CER.TO - CER TRENTINO ORIENTALE | I75: =IFERROR(__xludf.DUMMYFUNCTION("TEXTJOIN(char(10),TRUE(),FILTER(Foglio5!$B$2:$B$90,Foglio5!$A$2:$A$90=G75))"),"")
A76: CIS | B76: 38020 | C76: CIS | D76: 1 | E76: MONCLASSICO | F76: =VLOOKUP(E76,Foglio4!$A$2:$B$33,2,FALSE()) -> AC221E00006 | G76: =F76&"*" -> AC221E00006* | H76: =IFERROR(__xludf.DUMMYFUNCTION("+IFERROR(TEXTJOIN(char(10),TRUE(),FILTER(Foglio5!$B$2:$B$90,Foglio5!$A$2:$A$90=F76)),"""")"),"") | I76: =IFERROR(__xludf.DUMMYFUNCTION("TEXTJOIN(char(10),TRUE(),FILTER(Foglio5!$B$2:$B$90,Foglio5!$A$2:$A$90=G76))"),"")
A77: CIVEZZANO | B77: 38045 | C77: CIVEZZANO | D77: 0.53 | E77: LAVIS | F77: =VLOOKUP(E77,Foglio4!$A$2:$B$33,2,FALSE()) -> AC221E00018 | G77: =F77&"*" -> AC221E00018* | H77: =IFERROR(__xludf.DUMMYFUNCTION("+IFERROR(TEXTJOIN(char(10),TRUE(),FILTER(Foglio5!$B$2:$B$90,Foglio5!$A$2:$A$90=F77)),"""")"),"CER ZARGA FONDAZIONE SOLERGIA") -> CER ZARGA FONDAZIONE SOLERGIA | I77: =IFERROR(__xludf.DUMMYFUNCTION("TEXTJOIN(char(10),TRUE(),FILTER(Foglio5!$B$2:$B$90,Foglio5!$A$2:$A$90=G77))"),"CER CAR CER DEL SARCA KONCERT") -> CER CAR CER DEL SARCA KONCERT
A78: CIVEZZANO | B78: 38045 | C78: CIVEZZANO | D78: 0.47 | E78: P.S. GIORGIO | F78: =VLOOKUP(E78,Foglio4!$A$2:$B$33,2,FALSE()) -> AC221E00019 | G78: =F78&"*" -> AC221E00019* | H78: =IFERROR(__xludf.DUMMYFUNCTION("+IFERROR(TEXTJOIN(char(10),TRUE(),FILTER(Foglio5!$B$2:$B$90,Foglio5!$A$2:$A$90=F78)),"""")"),"CER CAR") -> CER CAR | I78: =IFERROR(__xludf.DUMMYFUNCTION("TEXTJOIN(char(10),TRUE(),FILTER(Foglio5!$B$2:$B$90,Foglio5!$A$2:$A$90=G78))"),"KONCERT TECER") -> KONCERT TECER
A79: CLES | B79: 38023 | C79: CLES | D79: 0.02 | E79: MONCLASSICO | F79: =VLOOKUP(E79,Foglio4!$A$2:$B$33,2,FALSE()) -> AC221E00006 | G79: =F79&"*" -> AC221E00006* | H79: =IFERROR(__xludf.DUMMYFUNCTION("+IFERROR(TEXTJOIN(char(10),TRUE(),FILTER(Foglio5!$B$2:$B$90,Foglio5!$A$2:$A$90=F79)),"""")"),"") | I79: =IFERROR(__xludf.DUMMYFUNCTION("TEXTJOIN(char(10),TRUE(),FILTER(Foglio5!$B$2:$B$90,Foglio5!$A$2:$A$90=G79))"),"")
A80: CLES | B80: 38023 | C80: CLES | D80: 0.98 | E80: TASSULLO | F80: =VLOOKUP(E80,Foglio4!$A$2:$B$33,2,FALSE()) -> AC221E00010 | G80: =F80&"*" -> AC221E00010* | H80: =IFERROR(__xludf.DUMMYFUNCTION("+IFERROR(TEXTJOIN(char(10),TRUE(),FILTER(Foglio5!$B$2:$B$90,Foglio5!$A$2:$A$90=F80)),"""")"),"EYCO SOCIETÀ COOPERATIVA NOS ENERGIA") -> EYCO SOCIETÀ COOPERATIVA NOS ENERGIA | I80: =IFERROR(__xludf.DUMMYFUNCTION("TEXTJOIN(char(10),TRUE(),FILTER(Foglio5!$B$2:$B$90,Foglio5!$A$2:$A$90=G80))"),"")
A81: COMANO TERME | B81: 38077 | C81: BLEGGIO INFERIORE | D81: 0.5 | E81: LA ROCCA | F81: =VLOOKUP(E81,Foglio4!$A$2:$B$33,2,FALSE()) -> AC221E00000 | G81: =F81&"*" -> AC221E00000* | H81: =IFERROR(__xludf.DUMMYFUNCTION("+IFERROR(TEXTJOIN(char(10),TRUE(),FILTER(Foglio5!$B$2:$B$90,Foglio5!$A$2:$A$90=F81)),"""")"),"CER DEL SARCA") -> CER DEL SARCA | I81: =IFERROR(__xludf.DUMMYFUNCTION("TEXTJOIN(char(10),TRUE(),FILTER(Foglio5!$B$2:$B$90,Foglio5!$A$2:$A$90=G81))"),"")
A82: COMANO TERME | B82: 38077 | C82: BLEGGIO INFERIORE | D82: 0.5 | E82: NEMBIA | F82: =VLOOKUP(E82,Foglio4!$A$2:$B$33,2,FALSE()) -> AC221E00007 | G82: =F82&"*" -> AC221E00007* | H82: =IFERROR(__xludf.DUMMYFUNCTION("+IFERROR(TEXTJOIN(char(10),TRUE(),FILTER(Foglio5!$B$2:$B$90,Foglio5!$A$2:$A$90=F82)),"""")"),"EUREKA CER") -> EUREKA CER | I82: =IFERROR(__xludf.DUMMYFUNCTION("TEXTJOIN(char(10),TRUE(),FILTER(Foglio5!$B$2:$B$90,Foglio5!$A$2:$A$90=G82))"),"CER DEL SARCA") -> CER DEL SARCA
A83: COMMEZZADURA | B83: 38020 | C83: COMMEZZADURA | D83: 1 | E83: MONCLASSICO | F83: =VLOOKUP(E83,Foglio4!$A$2:$B$33,2,FALSE()) -> AC221E00006 | G83: =F83&"*" -> AC221E00006* | H83: =IFERROR(__xludf.DUMMYFUNCTION("+IFERROR(TEXTJOIN(char(10),TRUE(),FILTER(Foglio5!$B$2:$B$90,Foglio5!$A$2:$A$90=F83)),"""")"),"") | I83: =IFERROR(__xludf.DUMMYFUNCTION("TEXTJOIN(char(10),TRUE(),FILTER(Foglio5!$B$2:$B$90,Foglio5!$A$2:$A$90=G83))"),"")
A84: CONTA' | B84: 38093 | C84: CUNEVO | D84: 1 | E84: TASSULLO | F84: =VLOOKUP(E84,Foglio4!$A$2:$B$33,2,FALSE()) -> AC221E00010 | G84: =F84&"*" -> AC221E00010* | H84: =IFERROR(__xludf.DUMMYFUNCTION("+IFERROR(TEXTJOIN(char(10),TRUE(),FILTER(Foglio5!$B$2:$B$90,Foglio5!$A$2:$A$90=F84)),"""")"),"EYCO SOCIETÀ COOPERATIVA NOS ENERGIA") -> EYCO SOCIETÀ COOPERATIVA NOS ENERGIA | I84: =IFERROR(__xludf.DUMMYFUNCTION("TEXTJOIN(char(10),TRUE(),FILTER(Foglio5!$B$2:$B$90,Foglio5!$A$2:$A$90=G84))"),"")
A85: CONTA' | B85: 38093 | C85: FLAVON | D85: 1 | E85: TASSULLO | F85: =VLOOKUP(E85,Foglio4!$A$2:$B$33,2,FALSE()) -> AC221E00010 | G85: =F85&"*" -> AC221E00010* | H85: =IFERROR(__xludf.DUMMYFUNCTION("+IFERROR(TEXTJOIN(char(10),TRUE(),FILTER(Foglio5!$B$2:$B$90,Foglio5!$A$2:$A$90=F85)),"""")"),"EYCO SOCIETÀ COOPERATIVA NOS ENERGIA") -> EYCO SOCIETÀ COOPERATIVA NOS ENERGIA | I85: =IFERROR(__xludf.DUMMYFUNCTION("TEXTJOIN(char(10),TRUE(),FILTER(Foglio5!$B$2:$B$90,Foglio5!$A$2:$A$90=G85))"),"")
A86: CONTA' | B86: 38093 | C86: TERRES | D86: 1 | E86: TASSULLO | F86: =VLOOKUP(E86,Foglio4!$A$2:$B$33,2,FALSE()) -> AC221E00010 | G86: =F86&"*" -> AC221E00010* | H86: =IFERROR(__xludf.DUMMYFUNCTION("+IFERROR(TEXTJOIN(char(10),TRUE(),FILTER(Foglio5!$B$2:$B$90,Foglio5!$A$2:$A$90=F86)),"""")"),"EYCO SOCIETÀ COOPERATIVA NOS ENERGIA") -> EYCO SOCIETÀ COOPERATIVA NOS ENERGIA | I86: =IFERROR(__xludf.DUMMYFUNCTION("TEXTJOIN(char(10),TRUE(),FILTER(Foglio5!$B$2:$B$90,Foglio5!$A$2:$A$90=G86))"),"")
A87: CROVIANA | B87: 38027 | C87: CROVIANA | D87: 1 | E87: MONCLASSICO | F87: =VLOOKUP(E87,Foglio4!$A$2:$B$33,2,FALSE()) -> AC221E00006 | G87: =F87&"*" -> AC221E00006* | H87: =IFERROR(__xludf.DUMMYFUNCTION("+IFERROR(TEXTJOIN(char(10),TRUE(),FILTER(Foglio5!$B$2:$B$90,Foglio5!$A$2:$A$90=F87)),"""")"),"") | I87: =IFERROR(__xludf.DUMMYFUNCTION("TEXTJOIN(char(10),TRUE(),FILTER(Foglio5!$B$2:$B$90,Foglio5!$A$2:$A$90=G87))"),"")
A88: DAMBEL | B88: 38010 | C88: DAMBEL | D88: 1 | E88: TASSULLO | F88: =VLOOKUP(E88,Foglio4!$A$2:$B$33,2,FALSE()) -> AC221E00010 | G88: =F88&"*" -> AC221E00010* | H88: =IFERROR(__xludf.DUMMYFUNCTION("+IFERROR(TEXTJOIN(char(10),TRUE(),FILTER(Foglio5!$B$2:$B$90,Foglio5!$A$2:$A$90=F88)),"""")"),"EYCO SOCIETÀ COOPERATIVA NOS ENERGIA") -> EYCO SOCIETÀ COOPERATIVA NOS ENERGIA | I88: =IFERROR(__xludf.DUMMYFUNCTION("TEXTJOIN(char(10),TRUE(),FILTER(Foglio5!$B$2:$B$90,Foglio5!$A$2:$A$90=G88))"),"")
A89: DENNO | B89: 38010 | C89: DENNO | D89: 0.25 | E89: S.MICHELE | F89: =VLOOKUP(E89,Foglio4!$A$2:$B$33,2,FALSE()) -> AC221E00016 | G89: =F89&"*" -> AC221E00016* | H89: =IFERROR(__xludf.DUMMYFUNCTION("+IFERROR(TEXTJOIN(char(10),TRUE(),FILTER(Foglio5!$B$2:$B$90,Foglio5!$A$2:$A$90=F89)),"""")"),"KONCERT") -> KONCERT | I89: =IFERROR(__xludf.DUMMYFUNCTION("TEXTJOIN(char(10),TRUE(),FILTER(Foglio5!$B$2:$B$90,Foglio5!$A$2:$A$90=G89))"),"")
A90: DENNO | B90: 38010 | C90: DENNO | D90: 0.75 | E90: TASSULLO | F90: =VLOOKUP(E90,Foglio4!$A$2:$B$33,2,FALSE()) -> AC221E00010 | G90: =F90&"*" -> AC221E00010* | H90: =IFERROR(__xludf.DUMMYFUNCTION("+IFERROR(TEXTJOIN(char(10),TRUE(),FILTER(Foglio5!$B$2:$B$90,Foglio5!$A$2:$A$90=F90)),"""")"),"EYCO SOCIETÀ COOPERATIVA NOS ENERGIA") -> EYCO SOCIETÀ COOPERATIVA NOS ENERGIA | I90: =IFERROR(__xludf.DUMMYFUNCTION("TEXTJOIN(char(10),TRUE(),FILTER(Foglio5!$B$2:$B$90,Foglio5!$A$2:$A$90=G90))"),"")
A91: DIMARO FOLGARIDA | B91: 38025 | C91: DIMARO | D91: 1 | E91: MONCLASSICO | F91: =VLOOKUP(E91,Foglio4!$A$2:$B$33,2,FALSE()) -> AC221E00006 | G91: =F91&"*" -> AC221E00006* | H91: =IFERROR(__xludf.DUMMYFUNCTION("+IFERROR(TEXTJOIN(char(10),TRUE(),FILTER(Foglio5!$B$2:$B$90,Foglio5!$A$2:$A$90=F91)),"""")"),"") | I91: =IFERROR(__xludf.DUMMYFUNCTION("TEXTJOIN(char(10),TRUE(),FILTER(Foglio5!$B$2:$B$90,Foglio5!$A$2:$A$90=G91))"),"")
A92: DIMARO FOLGARIDA | B92: 38025 | C92: MONCLASSICO | D92: 1 | E92: MONCLASSICO | F92: =VLOOKUP(E92,Foglio4!$A$2:$B$33,2,FALSE()) -> AC221E00006 | G92: =F92&"*" -> AC221E00006* | H92: =IFERROR(__xludf.DUMMYFUNCTION("+IFERROR(TEXTJOIN(char(10),TRUE(),FILTER(Foglio5!$B$2:$B$90,Foglio5!$A$2:$A$90=F92)),"""")"),"") | I92: =IFERROR(__xludf.DUMMYFUNCTION("TEXTJOIN(char(10),TRUE(),FILTER(Foglio5!$B$2:$B$90,Foglio5!$A$2:$A$90=G92))"),"")
A93: DRENA | B93: 38074 | C93: DRENA | D93: 1 | E93: DRO | F93: =VLOOKUP(E93,Foglio4!$A$2:$B$33,2,FALSE()) -> AC221E00008 | G93: =F93&"*" -> AC221E00008* | H93: =IFERROR(__xludf.DUMMYFUNCTION("+IFERROR(TEXTJOIN(char(10),TRUE(),FILTER(Foglio5!$B$2:$B$90,Foglio5!$A$2:$A$90=F93)),"""")"),"") | I93: =IFERROR(__xludf.DUMMYFUNCTION("TEXTJOIN(char(10),TRUE(),FILTER(Foglio5!$B$2:$B$90,Foglio5!$A$2:$A$90=G93))"),"CER DEL SARCA") -> CER DEL SARCA
A94: DRO | B94: 38074 | C94: DRO | D94: 0.82 | E94: DRO | F94: =VLOOKUP(E94,Foglio4!$A$2:$B$33,2,FALSE()) -> AC221E00008 | G94: =F94&"*" -> AC221E00008* | H94: =IFERROR(__xludf.DUMMYFUNCTION("+IFERROR(TEXTJOIN(char(10),TRUE(),FILTER(Foglio5!$B$2:$B$90,Foglio5!$A$2:$A$90=F94)),"""")"),"") | I94: =IFERROR(__xludf.DUMMYFUNCTION("TEXTJOIN(char(10),TRUE(),FILTER(Foglio5!$B$2:$B$90,Foglio5!$A$2:$A$90=G94))"),"CER DEL SARCA") -> CER DEL SARCA
A95: DRO | B95: 38074 | C95: DRO | D95: 0.18 | E95: S.MASSENZA | F95: =VLOOKUP(E95,Foglio4!$A$2:$B$33,2,FALSE()) -> AC221E00009 | G95: =F95&"*" -> AC221E00009* | H95: =IFERROR(__xludf.DUMMYFUNCTION("+IFERROR(TEXTJOIN(char(10),TRUE(),FILTER(Foglio5!$B$2:$B$90,Foglio5!$A$2:$A$90=F95)),"""")"),"") | I95: =IFERROR(__xludf.DUMMYFUNCTION("TEXTJOIN(char(10),TRUE(),FILTER(Foglio5!$B$2:$B$90,Foglio5!$A$2:$A$90=G95))"),"CER DEL SARCA CER VALLE DEI LAGHI") -> CER DEL SARCA CER VALLE DEI LAGHI
A96: FAI DELLA PAGANELLA | B96: 38010 | C96: FAI DELLA PAGANELLA | D96: 1 | E96: S.MICHELE | F96: =VLOOKUP(E96,Foglio4!$A$2:$B$33,2,FALSE()) -> AC221E00016 | G96: =F96&"*" -> AC221E00016* | H96: =IFERROR(__xludf.DUMMYFUNCTION("+IFERROR(TEXTJOIN(char(10),TRUE(),FILTER(Foglio5!$B$2:$B$90,Foglio5!$A$2:$A$90=F96)),"""")"),"KONCERT") -> KONCERT | I96: =IFERROR(__xludf.DUMMYFUNCTION("TEXTJOIN(char(10),TRUE(),FILTER(Foglio5!$B$2:$B$90,Foglio5!$A$2:$A$90=G96))"),"")
A97: FIEROZZO | B97: 38050 | C97: FIEROZZO | D97: 1 | E97: BRAZZANIGA | F97: =VLOOKUP(E97,Foglio4!$A$2:$B$33,2,FALSE()) -> AC221E00021 | G97: =F97&"*" -> AC221E00021* | H97: =IFERROR(__xludf.DUMMYFUNCTION("+IFERROR(TEXTJOIN(char(10),TRUE(),FILTER(Foglio5!$B$2:$B$90,Foglio5!$A$2:$A$90=F97)),"""")"),"EYCO SOCIETÀ COOPERATIVA") -> EYCO SOCIETÀ COOPERATIVA | I97: =IFERROR(__xludf.DUMMYFUNCTION("TEXTJOIN(char(10),TRUE(),FILTER(Foglio5!$B$2:$B$90,Foglio5!$A$2:$A$90=G97))"),"CIVE C'è COM.EN.PINE'") -> CIVE C'è COM.EN.PINE'
A98: FOLGARIA | B98: 38064 | C98: FOLGARIA | D98: 0.48 | E98: CALDONAZZO | F98: =VLOOKUP(E98,Foglio4!$A$2:$B$33,2,FALSE()) -> AC221E00020 | G98: =F98&"*" -> AC221E00020* | H98: =IFERROR(__xludf.DUMMYFUNCTION("+IFERROR(TEXTJOIN(char(10),TRUE(),FILTER(Foglio5!$B$2:$B$90,Foglio5!$A$2:$A$90=F98)),"""")"),"GREENLAND") -> GREENLAND | I98: =IFERROR(__xludf.DUMMYFUNCTION("TEXTJOIN(char(10),TRUE(),FILTER(Foglio5!$B$2:$B$90,Foglio5!$A$2:$A$90=G98))"),"CER TENNA") -> CER TENNA
A99: FOLGARIA | B99: 38064 | C99: FOLGARIA | D99: 0.52 | E99: S.COLOMBANO | F99: =VLOOKUP(E99,Foglio4!$A$2:$B$33,2,FALSE()) -> AC221E00017 | G99: =F99&"*" -> AC221E00017* | H99: =IFERROR(__xludf.DUMMYFUNCTION("+IFERROR(TEXTJOIN(char(10),TRUE(),FILTER(Foglio5!$B$2:$B$90,Foglio5!$A$2:$A$90=F99)),"""")"),"GREENLAND") -> GREENLAND | I99: =IFERROR(__xludf.DUMMYFUNCTION("TEXTJOIN(char(10),TRUE(),FILTER(Foglio5!$B$2:$B$90,Foglio5!$A$2:$A$90=G99))"),"CER SOLIDALE TRENTINA ENERGIA NUOVA VALLARSA") -> CER SOLIDALE TRENTINA ENERGIA NUOVA VALLARSA
A100: FORNACE | B100: 38040 | C100: FORNACE | D100: 0.65 | E100: LAVIS | F100: =VLOOKUP(E100,Foglio4!$A$2:$B$33,2,FALSE()) -> AC221E00018 | G100: =F100&"*" -> AC221E00018* | H100: =IFERROR(__xludf.DUMMYFUNCTION("+IFERROR(TEXTJOIN(char(10),TRUE(),FILTER(Foglio5!$B$2:$B$90,Foglio5!$A$2:$A$90=F100)),"""")"),"CER ZARGA FONDAZIONE SOLERGIA") -> CER ZARGA FONDAZIONE SOLERGIA | I100: =IFERROR(__xludf.DUMMYFUNCTION("TEXTJOIN(char(10),TRUE(),FILTER(Foglio5!$B$2:$B$90,Foglio5!$A$2:$A$90=G100))"),"CER CAR CER DEL SARCA KONCERT") -> CER CAR CER DEL SARCA KONCERT
...

Sheet Foglio4
A1: CABINA PRIMARIA | B1: CODICE
A2: CASTELPIETRA | B2: AC014E00001
A3: SAN SILVESTRO | B3: AC014E00002
A4: AIR ROTALIANA | B4: AC083E00001
A5: LA ROCCA | B5: AC221E00000
A6: CIMEGO | B6: AC221E00001
A7: STORO | B7: AC221E00002
A8: GIUSTINO | B8: AC221E00003
A9: OSSANA | B9: AC221E00004
A10: ARCO | B10: AC221E00005
A11: MONCLASSICO | B11: AC221E00006
A12: NEMBIA | B12: AC221E00007
... A33: CAMPITELLO | B33: AC221E00028

Sheet Foglio5
B1: NOME | D1: CABINA PRIMARIA
A2: AC014E00001 | B2: ATTIV CER DEL PRIMIERO | D2: CASTELPIETRA (AC014E00001)
A3: AC014E00001 | B3: CER A DOLTRA | D3: CASTELPIETRA(AC014E00001)
A4: AC221E00019 | B4: CER CAR | D4: P.S. GIORGIO (AC221E00019)
A5: AC221E00015* | B5: CER CAR | D5: TN SUD (AC221E00015*)
A6: AC221E00018* | B6: CER CAR | D6: LAVIS (AC221E00018*)
A7: AC221E00022* | B7: CER CEMBRA | D7: VARENA (AC221E00022*)
A8: AC221E00005* | B8: CER DEL SARCA | D8: ARCO (AC221E00005*)
A9: AC221E00008* | B9: CER DEL SARCA | D9: DRO (AC221E00008*)
A10: AC221E00000 | B10: CER DEL SARCA | D10: LA ROCCA (AC221E00000)
A11: AC221E00003* | B11: CER DEL SARCA | D11: GIUSTINO (AC221E00003*)
A12: AC221E00018* | B12: CER DEL SARCA | D12: LAVIS (AC221E00018*)
A13: AC221E00007* | B13: CER DEL SARCA | D13: NEMBIA (AC221E00007*)
... A44: AC221E000012 | B44: EYCO SOCIETÀ COOPERATIVA | D44: LIZZANA (AC221E000012)
A45: AC014E00001* | C45: FONDAZIONE DIOCESI ENERGY ETS | D45: CASTELPIETRA (AC014E00001*)
A46: AC014E00002* | C46: FONDAZIONE DIOCESI ENERGY ETS | D46: SAN SILVESTRO (AC014E00002*)
A47: AC083E00001* | C47: FONDAZIONE DIOCESI ENERGY ETS | D47: AIR ROTALIANA (AC083E00001*)
A48: AC221E00000* | C48: FONDAZIONE DIOCESI ENERGY ETS | D48: LA ROCCA (AC221E00000*)
A49: AC221E00001* | C49: FONDAZIONE DIOCESI ENERGY ETS | D49: CIMEGO (AC221E00001*)
A50: AC221E00002* | C50: FONDAZIONE DIOCESI ENERGY ETS | D50: STORO (AC221E00002*)
A51: AC221E00003* | C51: FONDAZIONE DIOCESI ENERGY ETS | D51: GIUSTINO (AC221E00003*
A52: AC221E00004* | C52: FONDAZIONE DIOCESI ENERGY ETS | D52: OSSANA (AC221E00004*)
A53: AC221E00005* | C53: FONDAZIONE DIOCESI ENERGY ETS | D53: ARCO (AC221E00005*)
A54: AC221E00006* | C54: FONDAZIONE DIOCESI ENERGY ETS | D54: MONCLASSICO (AC221E00006*)
A55: AC221E00007* | C55: FONDAZIONE DIOCESI ENERGY ETS | D55: NEMBIA (AC221E00007*)
A56: AC221E00008* | C56: FONDAZIONE DIOCESI ENERGY ETS | D56: DRO (AC221E00008*)
... A76: AC221E00028* | C76: FONDAZIONE DIOCESI ENERGY ETS | D76: CAMPITELLO (AC221E00028*)
A77: AC014E00002 | B77: FONDAZIONE SOLERGIA | D77: SAN SILVESTRO (AC014E00002)
A78: AC221E00018 | B78: FONDAZIONE SOLERGIA | D78: LAVIS (AC221E00018)
A79: AC221E00020 | B79: GREENLAND | D79: CALDONAZZO (AC221E00020)
A80: AC221E00014 | B80: GREENLAND | D80: ROVERETO NORD (AC221E00014)
A81: AC221E00017 | B81: GREENLAND | D81: S.COLOMBANO (AC221E00017)
A82: AC221E00016 | B82: KONCERT | D82: S.MICHELE (AC221E00016)
A83: AC083E00001 | B83: KONCERT | D83: AIR ROTALIANA (AC083E00001)
A84: AC221E00018* | B84: KONCERT | D84: LAVIS (AC221E00018*)
A85: AC221E00019* | B85: KONCERT | D85: P.S.GIORGIO (AC221E00019*)
A86: AC221E000015* | B86: KONCERT | D86: TN SUD (AC221E000015*)
A87: AC221E00002 | B87: LA BUONA FONTE | D87: STORO (AC221E00002)
A88: AC221E00010 | B88: NOS ENERGIA | D88: TASSULLO (AC221E00010)
B89: SOLARIA
A90: AC221E00019* | B90: TECER | D90: P.S. GIORGIO (AC221E00019*)

Sheet Elenco_CER_comune_infoenergia
A1: =Elenco_CER_comune_appoggio!A1 -> COMUNE | B1: =Elenco_CER_comune_appoggio!B1 -> CAP | C1: =Elenco_CER_comune_appoggio!C1 -> LOCALITA' | D1: =Elenco_CER_comune_appoggio!E1 -> CABINA PRIMARIA | E1: =Elenco_CER_comune_appoggio!F1 -> CODICE CABINA PRIMARIA | F1: =Elenco_CER_comune_appoggio!H1 -> CER attive | G1: =Elenco_CER_comune_appoggio!I1 -> CER in espansione | H1: =Elenco_CER_comune_appoggio!J1 | I1: =Elenco_CER_comune_appoggio!K1 | J1: =Elenco_CER_comune_appoggio!L1 | K1: =Elenco_CER_comune_appoggio!M1 | L1: =Elenco_CER_comune_appoggio!N1
A2: =Elenco_CER_comune_appoggio!A2 -> ALA | B2: =Elenco_CER_comune_appoggio!B2 -> 38061 | C2: =Elenco_CER_comune_appoggio!C2 -> ALA | D2: =Elenco_CER_comune_appoggio!E2 -> MASOCORONA | E2: =Elenco_CER_comune_appoggio!F2 -> AC221E00013 | F2: =Elenco_CER_comune_appoggio!H2 | G2: =Elenco_CER_comune_appoggio!I2 | H2: =Elenco_CER_comune_appoggio!J2 | I2: =Elenco_CER_comune_appoggio!K2 | J2: =Elenco_CER_comune_appoggio!L2 | K2: =Elenco_CER_comune_appoggio!M2 | L2: =Elenco_CER_comune_appoggio!N2
A3: =Elenco_CER_comune_appoggio!A3 -> ALBIANO | B3: =Elenco_CER_comune_appoggio!B3 -> 38041 | C3: =Elenco_CER_comune_appoggio!C3 -> ALBIANO | D3: =Elenco_CER_comune_appoggio!E3 -> LAVIS | E3: =Elenco_CER_comune_appoggio!F3 -> AC221E00018 | F3: =Elenco_CER_comune_appoggio!H3 -> CER ZARGA FONDAZIONE SOLERGIA | G3: =Elenco_CER_comune_appoggio!I3 -> CER CAR CER DEL SARCA KONCERT | H3: =Elenco_CER_comune_appoggio!J3 | I3: =Elenco_CER_comune_appoggio!K3 | J3: =Elenco_CER_comune_appoggio!L3 | K3: =Elenco_CER_comune_appoggio!M3 | L3: =Elenco_CER_comune_appoggio!N3
A4: =Elenco_CER_comune_appoggio!A4 -> ALDENO | B4: =Elenco_CER_comune_appoggio!B4 -> 38060 | C4: =Elenco_CER_comune_appoggio!C4 -> ALDENO | D4: =Elenco_CER_comune_appoggio!E4 -> TN SUD | E4: =Elenco_CER_comune_appoggio!F4 -> AC221E00015 | F4: =Elenco_CER_comune_appoggio!H4 | G4: =Elenco_CER_comune_appoggio!I4 -> CER CAR | H4: =Elenco_CER_comune_appoggio!J4 | I4: =Elenco_CER_comune_appoggio!K4 | J4: =Elenco_CER_comune_appoggio!L4 | K4: =Elenco_CER_comune_appoggio!M4 | L4: =Elenco_CER_comune_appoggio!N4
A5: =Elenco_CER_comune_appoggio!A5 -> ALTAVALLE | B5: =Elenco_CER_comune_appoggio!B5 -> 38092 | C5: =Elenco_CER_comune_appoggio!C5 -> FAVER | D5: =Elenco_CER_comune_appoggio!E5 -> S.MICHELE | E5: =Elenco_CER_comune_appoggio!F5 -> AC221E00016 | F5: =Elenco_CER_comune_appoggio!H5 -> KONCERT | G5: =Elenco_CER_comune_appoggio!I5 | H5: =Elenco_CER_comune_appoggio!J5 | I5: =Elenco_CER_comune_appoggio!K5 | J5: =Elenco_CER_comune_appoggio!L5 | K5: =Elenco_CER_comune_appoggio!M5 | L5: =Elenco_CER_comune_appoggio!N5
A6: =Elenco_CER_comune_appoggio!A6 -> ALTAVALLE | B6: =Elenco_CER_comune_appoggio!B6 -> 38092 | C6: =Elenco_CER_comune_appoggio!C6 -> GRAUNO | D6: =Elenco_CER_comune_appoggio!E6 -> VARENA | E6: =Elenco_CER_comune_appoggio!F6 -> AC221E00022 | F6: =Elenco_CER_comune_appoggio!H6 -> EYCO SOCIETÀ COOPERATIVA | G6: =Elenco_CER_comune_appoggio!I6 -> CER CEMBRA CER FIEMME | H6: =Elenco_CER_comune_appoggio!J6 | I6: =Elenco_CER_comune_appoggio!K6 | J6: =Elenco_CER_comune_appoggio!L6 | K6: =Elenco_CER_comune_appoggio!M6 | L6: =Elenco_CER_comune_appoggio!N6
A7: =Elenco_CER_comune_appoggio!A7 -> ALTAVALLE | B7: =Elenco_CER_comune_appoggio!B7 -> 38092 | C7: =Elenco_CER_comune_appoggio!C7 -> GRUMES | D7: =Elenco_CER_comune_appoggio!E7 -> VARENA | E7: =Elenco_CER_comune_appoggio!F7 -> AC221E00022 | F7: =Elenco_CER_comune_appoggio!H7 -> EYCO SOCIETÀ COOPERATIVA | G7: =Elenco_CER_comune_appoggio!I7 -> CER CEMBRA CER FIEMME | H7: =Elenco_CER_comune_appoggio!J7 | I7: =Elenco_CER_comune_appoggio!K7 | J7: =Elenco_CER_comune_appoggio!L7 | K7: =Elenco_CER_comune_appoggio!M7 | L7: =Elenco_CER_comune_appoggio!N7
A8: =Elenco_CER_comune_appoggio!A8 -> ALTAVALLE | B8: =Elenco_CER_comune_appoggio!B8 -> 38092 | C8: =Elenco_CER_comune_appoggio!C8 -> VALDA | D8: =Elenco_CER_comune_appoggio!E8 -> VARENA | E8: =Elenco_CER_comune_appoggio!F8 -> AC221E00022 | F8: =Elenco_CER_comune_appoggio!H8 -> EYCO SOCIETÀ COOPERATIVA | G8: =Elenco_CER_comune_appoggio!I8 -> CER CEMBRA CER FIEMME | H8: =Elenco_CER_comune_appoggio!J8 | I8: =Elenco_CER_comune_appoggio!K8 | J8: =Elenco_CER_comune_appoggio!L8 | K8: =Elenco_CER_comune_appoggio!M8 | L8: =Elenco_CER_comune_appoggio!N8
A9: =Elenco_CER_comune_appoggio!A9 -> ALTOPIANO DELLA VIGOLANA | B9: =Elenco_CER_comune_appoggio!B9 -> 38049 | C9: =Elenco_CER_comune_appoggio!C9 -> BOSENTINO | D9: =Elenco_CER_comune_appoggio!E9 -> CALDONAZZO | E9: =Elenco_CER_comune_appoggio!F9 -> AC221E00020 | F9: =Elenco_CER_comune_appoggio!H9 -> GREENLAND | G9: =Elenco_CER_comune_appoggio!I9 -> CER TENNA | H9: =Elenco_CER_comune_appoggio!J9 | I9: =Elenco_CER_comune_appoggio!K9 | J9: =Elenco_CER_comune_appoggio!L9 | K9: =Elenco_CER_comune_appoggio!M9 | L9: =Elenco_CER_comune_appoggio!N9
A10: =Elenco_CER_comune_appoggio!A10 -> ALTOPIANO DELLA VIGOLANA | B10: =Elenco_CER_comune_appoggio!B10 -> 38049 | C10: =Elenco_CER_comune_appoggio!C10 -> CENTA S.NICOLO | D10: =Elenco_CER_comune_appoggio!E10 -> CALDONAZZO | E10: =Elenco_CER_comune_appoggio!F10 -> AC221E00020 | F10: =Elenco_CER_comune_appoggio!H10 -> GREENLAND | G10: =Elenco_CER_comune_appoggio!I10 -> CER TENNA | H10: =Elenco_CER_comune_appoggio!J10 | I10: =Elenco_CER_comune_appoggio!K10 | J10: =Elenco_CER_comune_appoggio!L10 | K10: =Elenco_CER_comune_appoggio!M10 | L10: =Elenco_CER_comune_appoggio!N10
A11: =Elenco_CER_comune_appoggio!A11 -> ALTOPIANO DELLA VIGOLANA | B11: =Elenco_CER_comune_appoggio!B11 -> 38049 | C11: =Elenco_CER_comune_appoggio!C11 -> VATTARO | D11: =Elenco_CER_comune_appoggio!E11 -> CALDONAZZO | E11: =Elenco_CER_comune_appoggio!F11 -> AC221E00020 | F11: =Elenco_CER_comune_appoggio!H11 -> GREENLAND | G11: =Elenco_CER_comune_appoggio!I11 -> CER TENNA | H11: =Elenco_CER_comune_appoggio!J11 | I11: =Elenco_CER_comune_appoggio!K11 | J11: =Elenco_CER_comune_appoggio!L11 | K11: =Elenco_CER_comune_appoggio!M11 | L11: =Elenco_CER_comune_appoggio!N11
A12: =Elenco_CER_comune_appoggio!A12 -> ALTOPIANO DELLA VIGOLANA | B12: =Elenco_CER_comune_appoggio!B12 -> 38049 | C12: =Elenco_CER_comune_appoggio!C12 -> VIGOLO VATTARO | D12: =Elenco_CER_comune_appoggio!E12 -> CALDONAZZO | E12: =Elenco_CER_comune_appoggio!F12 -> AC221E00020 | F12: =Elenco_CER_comune_appoggio!H12 -> GREENLAND | G12: =Elenco_CER_comune_appoggio!I12 -> CER TENNA | H12: =Elenco_CER_comune_appoggio!J12 | I12: =Elenco_CER_comune_appoggio!K12 | J12: =Elenco_CER_comune_appoggio!L12 | K12: =Elenco_CER_comune_appoggio!M12 | L12: =Elenco_CER_comune_appoggio!N12
... A354: =Elenco_CER_comune_appoggio!A354 | B354: =Elenco_CER_comune_appoggio!B354 | C354: =Elenco_CER_comune_appoggio!C354 | D354: =Elenco_CER_comune_appoggio!E354 | E354: =Elenco_CER_comune_appoggio!F354 | F354: =Elenco_CER_comune_appoggio!H354 | G354: =Elenco_CER_comune_appoggio!I354 | H354: =Elenco_CER_comune_appoggio!J354 | I354: =Elenco_CER_comune_appoggio!K354 | J354: =Elenco_CER_comune_appoggio!L354 | K354: =Elenco_CER_comune_appoggio!M354 | L354: =Elenco_CER_comune_appoggio!N354
